BEGIN:VCALENDAR
VERSION:2.0
PRODID:-//AFLabs urnik izvoz - pf//aflabs.si//SI
DTSTAMP:20260419T150646Z
NAME:UL PF Urnik
REFRESH-INTERVAL:PT1H
SOURCE:https://afurnik-pf.dev.aflabs.org/teacher/82?export=1&sub_type=2
URL:https://afurnik-pf.dev.aflabs.org/teacher/82?export=1&sub_type=2
X-PUBLISHED-TTL:PT1H
X-WR-CALNAME:UL PF Urnik
X-WR-TIMEZONE:Europe/Ljubljana
BEGIN:VTIMEZONE
TZID:Europe/Ljubljana
BEGIN:DAYLIGHT
DTSTART:20260329T020000
RDATE:20260329T020000
RDATE:20270328T020000
TZNAME:CEST
TZOFFSETFROM:+0100
TZOFFSETTO:+0200
END:DAYLIGHT
BEGIN:STANDARD
DTSTART:20261025T030000
RDATE:20261025T030000
RDATE:20271031T030000
TZNAME:CET
TZOFFSETFROM:+0200
TZOFFSETTO:+0100
END:STANDARD
END:VTIMEZONE
BEGIN:VEVENT
SUMMARY:Civilno pravo (CP)\, Vaje (V)\, [2]
DTSTART;TZID=Europe/Ljubljana:20260204T170000
DTEND;TZID=Europe/Ljubljana:20260204T190000
DTSTAMP:20260419T150646Z
UID:pf-AFLABS-URNIK:premaknjeno-srecanje:17856
ATTENDEE:3. letnik (B1)
CATEGORIES:Entry,Standard
COLOR:darkgreen
DESCRIPTION:Predmet: Civilno pravo (CP)\, Vaje (V)\, [2]\nLetniki: 3. letn
 ik (B1)\nIzvajalci: Miha Juhart\, Damjan Možina\, Viktorija Žnidaršič 
 Skubic\nProstor: Seminar 2
LOCATION:Seminar 2
ORGANIZER:Miha Juhart, Damjan Možina, Viktorija Žnidaršič Skubic
RELATED-TO:pf-AFLABS-URNIK:srecanje:675
X-WR-TIMEZONE:Europe/Ljubljana
END:VEVENT
BEGIN:VEVENT
SUMMARY:Civilno pravo (CP)\, Vaje (V)\, [2]
DTSTART;TZID=Europe/Ljubljana:20260211T170000
DTEND;TZID=Europe/Ljubljana:20260211T190000
DTSTAMP:20260419T150646Z
UID:pf-AFLABS-URNIK:premaknjeno-srecanje:17857
ATTENDEE:3. letnik (B1)
CATEGORIES:Entry,Standard
COLOR:darkgreen
DESCRIPTION:Predmet: Civilno pravo (CP)\, Vaje (V)\, [2]\nLetniki: 3. letn
 ik (B1)\nIzvajalci: Miha Juhart\, Damjan Možina\, Viktorija Žnidaršič 
 Skubic\nProstor: Seminar 2
LOCATION:Seminar 2
ORGANIZER:Miha Juhart, Damjan Možina, Viktorija Žnidaršič Skubic
RELATED-TO:pf-AFLABS-URNIK:srecanje:675
X-WR-TIMEZONE:Europe/Ljubljana
END:VEVENT
BEGIN:VEVENT
SUMMARY:Civilno pravo (CP)\, Vaje (V)\, [2]
DTSTART;TZID=Europe/Ljubljana:20260218T170000
DTEND;TZID=Europe/Ljubljana:20260218T190000
DTSTAMP:20260419T150646Z
UID:pf-AFLABS-URNIK:premaknjeno-srecanje:17858
ATTENDEE:3. letnik (B1)
CATEGORIES:Entry,Standard
COLOR:darkgreen
DESCRIPTION:Predmet: Civilno pravo (CP)\, Vaje (V)\, [2]\nLetniki: 3. letn
 ik (B1)\nIzvajalci: Miha Juhart\, Damjan Možina\, Viktorija Žnidaršič 
 Skubic\nProstor: Seminar 2
LOCATION:Seminar 2
ORGANIZER:Miha Juhart, Damjan Možina, Viktorija Žnidaršič Skubic
RELATED-TO:pf-AFLABS-URNIK:srecanje:675
X-WR-TIMEZONE:Europe/Ljubljana
END:VEVENT
BEGIN:VEVENT
SUMMARY:Civilno pravo (CP)\, Vaje (V)\, [2]
DTSTART;TZID=Europe/Ljubljana:20260225T170000
DTEND;TZID=Europe/Ljubljana:20260225T190000
DTSTAMP:20260419T150646Z
UID:pf-AFLABS-URNIK:premaknjeno-srecanje:17859
ATTENDEE:3. letnik (B1)
CATEGORIES:Entry,Standard
COLOR:darkgreen
DESCRIPTION:Predmet: Civilno pravo (CP)\, Vaje (V)\, [2]\nLetniki: 3. letn
 ik (B1)\nIzvajalci: Miha Juhart\, Damjan Možina\, Viktorija Žnidaršič 
 Skubic\nProstor: Seminar 2
LOCATION:Seminar 2
ORGANIZER:Miha Juhart, Damjan Možina, Viktorija Žnidaršič Skubic
RELATED-TO:pf-AFLABS-URNIK:srecanje:675
X-WR-TIMEZONE:Europe/Ljubljana
END:VEVENT
BEGIN:VEVENT
SUMMARY:Civilno pravo (CP)\, Vaje (V)\, [2]
DTSTART;TZID=Europe/Ljubljana:20260304T170000
DTEND;TZID=Europe/Ljubljana:20260304T190000
DTSTAMP:20260419T150646Z
UID:pf-AFLABS-URNIK:premaknjeno-srecanje:10908
ATTENDEE:3. letnik (B1)
CATEGORIES:Entry,Standard
COLOR:darkgreen
DESCRIPTION:Predmet: Civilno pravo (CP)\, Vaje (V)\, [2]\nLetniki: 3. letn
 ik (B1)\nIzvajalci: Miha Juhart\, Damjan Možina\, Viktorija Žnidaršič 
 Skubic\nProstor: Seminar 2
LOCATION:Seminar 2
ORGANIZER:Miha Juhart, Damjan Možina, Viktorija Žnidaršič Skubic
RELATED-TO:pf-AFLABS-URNIK:srecanje:675
X-WR-TIMEZONE:Europe/Ljubljana
END:VEVENT
BEGIN:VEVENT
SUMMARY:Civilno pravo (CP)\, Vaje (V)\, [2]
DTSTART;TZID=Europe/Ljubljana:20260311T170000
DTEND;TZID=Europe/Ljubljana:20260311T190000
DTSTAMP:20260419T150646Z
UID:pf-AFLABS-URNIK:premaknjeno-srecanje:17860
ATTENDEE:3. letnik (B1)
CATEGORIES:Entry,Standard
COLOR:darkgreen
DESCRIPTION:Predmet: Civilno pravo (CP)\, Vaje (V)\, [2]\nLetniki: 3. letn
 ik (B1)\nIzvajalci: Miha Juhart\, Damjan Možina\, Viktorija Žnidaršič 
 Skubic\nProstor: Seminar 2
LOCATION:Seminar 2
ORGANIZER:Miha Juhart, Damjan Možina, Viktorija Žnidaršič Skubic
RELATED-TO:pf-AFLABS-URNIK:srecanje:675
X-WR-TIMEZONE:Europe/Ljubljana
END:VEVENT
BEGIN:VEVENT
SUMMARY:Civilno pravo (CP)\, Vaje (V)\, [2]
DTSTART;TZID=Europe/Ljubljana:20260318T170000
DTEND;TZID=Europe/Ljubljana:20260318T190000
DTSTAMP:20260419T150646Z
UID:pf-AFLABS-URNIK:premaknjeno-srecanje:17861
ATTENDEE:3. letnik (B1)
CATEGORIES:Entry,Standard
COLOR:darkgreen
DESCRIPTION:Predmet: Civilno pravo (CP)\, Vaje (V)\, [2]\nLetniki: 3. letn
 ik (B1)\nIzvajalci: Miha Juhart\, Damjan Možina\, Viktorija Žnidaršič 
 Skubic\nProstor: Seminar 2
LOCATION:Seminar 2
ORGANIZER:Miha Juhart, Damjan Možina, Viktorija Žnidaršič Skubic
RELATED-TO:pf-AFLABS-URNIK:srecanje:675
X-WR-TIMEZONE:Europe/Ljubljana
END:VEVENT
BEGIN:VEVENT
SUMMARY:Civilno pravo (CP)\, Vaje (V)\, [2]
DTSTART;TZID=Europe/Ljubljana:20260325T170000
DTEND;TZID=Europe/Ljubljana:20260325T190000
DTSTAMP:20260419T150646Z
UID:pf-AFLABS-URNIK:premaknjeno-srecanje:17862
ATTENDEE:3. letnik (B1)
CATEGORIES:Entry,Standard
COLOR:darkgreen
DESCRIPTION:Predmet: Civilno pravo (CP)\, Vaje (V)\, [2]\nLetniki: 3. letn
 ik (B1)\nIzvajalci: Miha Juhart\, Damjan Možina\, Viktorija Žnidaršič 
 Skubic\nProstor: Seminar 2
LOCATION:Seminar 2
ORGANIZER:Miha Juhart, Damjan Možina, Viktorija Žnidaršič Skubic
RELATED-TO:pf-AFLABS-URNIK:srecanje:675
X-WR-TIMEZONE:Europe/Ljubljana
END:VEVENT
BEGIN:VEVENT
SUMMARY:Civilno pravo (CP)\, Vaje (V)\, [2]
DTSTART;TZID=Europe/Ljubljana:20260401T170000
DTEND;TZID=Europe/Ljubljana:20260401T190000
DTSTAMP:20260419T150646Z
UID:pf-AFLABS-URNIK:premaknjeno-srecanje:17863
ATTENDEE:3. letnik (B1)
CATEGORIES:Entry,Standard
COLOR:darkgreen
DESCRIPTION:Predmet: Civilno pravo (CP)\, Vaje (V)\, [2]\nLetniki: 3. letn
 ik (B1)\nIzvajalci: Miha Juhart\, Damjan Možina\, Viktorija Žnidaršič 
 Skubic\nProstor: Seminar 2
LOCATION:Seminar 2
ORGANIZER:Miha Juhart, Damjan Možina, Viktorija Žnidaršič Skubic
RELATED-TO:pf-AFLABS-URNIK:srecanje:675
X-WR-TIMEZONE:Europe/Ljubljana
END:VEVENT
BEGIN:VEVENT
SUMMARY:Civilno pravo (CP)\, Vaje (V)\, [2]
DTSTART;TZID=Europe/Ljubljana:20260408T170000
DTEND;TZID=Europe/Ljubljana:20260408T190000
DTSTAMP:20260419T150646Z
UID:pf-AFLABS-URNIK:premaknjeno-srecanje:17864
ATTENDEE:3. letnik (B1)
CATEGORIES:Entry,Standard
COLOR:darkgreen
DESCRIPTION:Predmet: Civilno pravo (CP)\, Vaje (V)\, [2]\nLetniki: 3. letn
 ik (B1)\nIzvajalci: Miha Juhart\, Damjan Možina\, Viktorija Žnidaršič 
 Skubic\nProstor: Seminar 2
LOCATION:Seminar 2
ORGANIZER:Miha Juhart, Damjan Možina, Viktorija Žnidaršič Skubic
RELATED-TO:pf-AFLABS-URNIK:srecanje:675
X-WR-TIMEZONE:Europe/Ljubljana
END:VEVENT
BEGIN:VEVENT
SUMMARY:Civilno pravo (CP)\, Vaje (V)\, [2]
DTSTART;TZID=Europe/Ljubljana:20260415T170000
DTEND;TZID=Europe/Ljubljana:20260415T190000
DTSTAMP:20260419T150646Z
UID:pf-AFLABS-URNIK:premaknjeno-srecanje:17865
ATTENDEE:3. letnik (B1)
CATEGORIES:Entry,Standard
COLOR:darkgreen
DESCRIPTION:Predmet: Civilno pravo (CP)\, Vaje (V)\, [2]\nLetniki: 3. letn
 ik (B1)\nIzvajalci: Miha Juhart\, Damjan Možina\, Viktorija Žnidaršič 
 Skubic\nProstor: Seminar 2
LOCATION:Seminar 2
ORGANIZER:Miha Juhart, Damjan Možina, Viktorija Žnidaršič Skubic
RELATED-TO:pf-AFLABS-URNIK:srecanje:675
X-WR-TIMEZONE:Europe/Ljubljana
END:VEVENT
BEGIN:VEVENT
SUMMARY:Civilno pravo (CP)\, Vaje (V)\, [2]
DTSTART;TZID=Europe/Ljubljana:20260422T170000
DTEND;TZID=Europe/Ljubljana:20260422T190000
DTSTAMP:20260419T150646Z
UID:pf-AFLABS-URNIK:premaknjeno-srecanje:17866
ATTENDEE:3. letnik (B1)
CATEGORIES:Entry,Standard
COLOR:darkgreen
DESCRIPTION:Predmet: Civilno pravo (CP)\, Vaje (V)\, [2]\nLetniki: 3. letn
 ik (B1)\nIzvajalci: Miha Juhart\, Damjan Možina\, Viktorija Žnidaršič 
 Skubic\nProstor: Seminar 2
LOCATION:Seminar 2
ORGANIZER:Miha Juhart, Damjan Možina, Viktorija Žnidaršič Skubic
RELATED-TO:pf-AFLABS-URNIK:srecanje:675
X-WR-TIMEZONE:Europe/Ljubljana
END:VEVENT
BEGIN:VEVENT
SUMMARY:Civilno pravo (CP)\, Vaje (V)\, [2]
DTSTART;TZID=Europe/Ljubljana:20260429T170000
DTEND;TZID=Europe/Ljubljana:20260429T190000
DTSTAMP:20260419T150646Z
UID:pf-AFLABS-URNIK:premaknjeno-srecanje:17867
ATTENDEE:3. letnik (B1)
CATEGORIES:Entry,Standard
COLOR:darkgreen
DESCRIPTION:Predmet: Civilno pravo (CP)\, Vaje (V)\, [2]\nLetniki: 3. letn
 ik (B1)\nIzvajalci: Miha Juhart\, Damjan Možina\, Viktorija Žnidaršič 
 Skubic\nProstor: Seminar 2
LOCATION:Seminar 2
ORGANIZER:Miha Juhart, Damjan Možina, Viktorija Žnidaršič Skubic
RELATED-TO:pf-AFLABS-URNIK:srecanje:675
X-WR-TIMEZONE:Europe/Ljubljana
END:VEVENT
BEGIN:VEVENT
SUMMARY:Civilno pravo (CP)\, Vaje (V)\, [2]
DTSTART;TZID=Europe/Ljubljana:20260506T170000
DTEND;TZID=Europe/Ljubljana:20260506T190000
DTSTAMP:20260419T150646Z
UID:pf-AFLABS-URNIK:premaknjeno-srecanje:17868
ATTENDEE:3. letnik (B1)
CATEGORIES:Entry,Standard
COLOR:darkgreen
DESCRIPTION:Predmet: Civilno pravo (CP)\, Vaje (V)\, [2]\nLetniki: 3. letn
 ik (B1)\nIzvajalci: Miha Juhart\, Damjan Možina\, Viktorija Žnidaršič 
 Skubic\nProstor: Seminar 2
LOCATION:Seminar 2
ORGANIZER:Miha Juhart, Damjan Možina, Viktorija Žnidaršič Skubic
RELATED-TO:pf-AFLABS-URNIK:srecanje:675
X-WR-TIMEZONE:Europe/Ljubljana
END:VEVENT
BEGIN:VEVENT
SUMMARY:Civilno pravo (CP)\, Vaje (V)\, [2]
DTSTART;TZID=Europe/Ljubljana:20260513T170000
DTEND;TZID=Europe/Ljubljana:20260513T190000
DTSTAMP:20260419T150646Z
UID:pf-AFLABS-URNIK:premaknjeno-srecanje:17869
ATTENDEE:3. letnik (B1)
CATEGORIES:Entry,Standard
COLOR:darkgreen
DESCRIPTION:Predmet: Civilno pravo (CP)\, Vaje (V)\, [2]\nLetniki: 3. letn
 ik (B1)\nIzvajalci: Miha Juhart\, Damjan Možina\, Viktorija Žnidaršič 
 Skubic\nProstor: Seminar 2
LOCATION:Seminar 2
ORGANIZER:Miha Juhart, Damjan Možina, Viktorija Žnidaršič Skubic
RELATED-TO:pf-AFLABS-URNIK:srecanje:675
X-WR-TIMEZONE:Europe/Ljubljana
END:VEVENT
BEGIN:VEVENT
SUMMARY:Civilno pravo (CP)\, Predavanje (P)
DTSTART;TZID=Europe/Ljubljana:20260210T080000
DTEND;TZID=Europe/Ljubljana:20260210T110000
DTSTAMP:20260419T150646Z
UID:pf-AFLABS-URNIK:premaknjeno-srecanje:17828
ATTENDEE:3. letnik (B1)
CATEGORIES:Entry,Standard
COLOR:darkgreen
DESCRIPTION:Predmet: Civilno pravo (CP)\, Predavanje (P)\nLetniki: 3. letn
 ik (B1)\nIzvajalci: Miha Juhart\, Damjan Možina\, Viktorija Žnidaršič 
 Skubic\nProstor: Vijolična predavalnica
LOCATION:Vijolična predavalnica
ORGANIZER:Miha Juhart, Damjan Možina, Viktorija Žnidaršič Skubic
RELATED-TO:pf-AFLABS-URNIK:srecanje:673
X-WR-TIMEZONE:Europe/Ljubljana
END:VEVENT
BEGIN:VEVENT
SUMMARY:Civilno pravo (CP)\, Predavanje (P)
DTSTART;TZID=Europe/Ljubljana:20260217T080000
DTEND;TZID=Europe/Ljubljana:20260217T110000
DTSTAMP:20260419T150646Z
UID:pf-AFLABS-URNIK:premaknjeno-srecanje:17829
ATTENDEE:3. letnik (B1)
CATEGORIES:Entry,Standard
COLOR:darkgreen
DESCRIPTION:Predmet: Civilno pravo (CP)\, Predavanje (P)\nLetniki: 3. letn
 ik (B1)\nIzvajalci: Miha Juhart\, Damjan Možina\, Viktorija Žnidaršič 
 Skubic\nProstor: Vijolična predavalnica
LOCATION:Vijolična predavalnica
ORGANIZER:Miha Juhart, Damjan Možina, Viktorija Žnidaršič Skubic
RELATED-TO:pf-AFLABS-URNIK:srecanje:673
X-WR-TIMEZONE:Europe/Ljubljana
END:VEVENT
BEGIN:VEVENT
SUMMARY:Civilno pravo (CP)\, Predavanje (P)
DTSTART;TZID=Europe/Ljubljana:20260224T080000
DTEND;TZID=Europe/Ljubljana:20260224T110000
DTSTAMP:20260419T150646Z
UID:pf-AFLABS-URNIK:premaknjeno-srecanje:17830
ATTENDEE:3. letnik (B1)
CATEGORIES:Entry,Standard
COLOR:darkgreen
DESCRIPTION:Predmet: Civilno pravo (CP)\, Predavanje (P)\nLetniki: 3. letn
 ik (B1)\nIzvajalci: Miha Juhart\, Damjan Možina\, Viktorija Žnidaršič 
 Skubic\nProstor: Vijolična predavalnica
LOCATION:Vijolična predavalnica
ORGANIZER:Miha Juhart, Damjan Možina, Viktorija Žnidaršič Skubic
RELATED-TO:pf-AFLABS-URNIK:srecanje:673
X-WR-TIMEZONE:Europe/Ljubljana
END:VEVENT
BEGIN:VEVENT
SUMMARY:Civilno pravo (CP)\, Predavanje (P)
DTSTART;TZID=Europe/Ljubljana:20260303T080000
DTEND;TZID=Europe/Ljubljana:20260303T110000
DTSTAMP:20260419T150646Z
UID:pf-AFLABS-URNIK:premaknjeno-srecanje:10876
ATTENDEE:3. letnik (B1)
CATEGORIES:Entry,Standard
COLOR:darkgreen
DESCRIPTION:Predmet: Civilno pravo (CP)\, Predavanje (P)\nLetniki: 3. letn
 ik (B1)\nIzvajalci: Miha Juhart\, Damjan Možina\, Viktorija Žnidaršič 
 Skubic\nProstor: Vijolična predavalnica
LOCATION:Vijolična predavalnica
ORGANIZER:Miha Juhart, Damjan Možina, Viktorija Žnidaršič Skubic
RELATED-TO:pf-AFLABS-URNIK:srecanje:673
X-WR-TIMEZONE:Europe/Ljubljana
END:VEVENT
BEGIN:VEVENT
SUMMARY:Civilno pravo (CP)\, Predavanje (P)
DTSTART;TZID=Europe/Ljubljana:20260310T080000
DTEND;TZID=Europe/Ljubljana:20260310T110000
DTSTAMP:20260419T150646Z
UID:pf-AFLABS-URNIK:premaknjeno-srecanje:17831
ATTENDEE:3. letnik (B1)
CATEGORIES:Entry,Standard
COLOR:darkgreen
DESCRIPTION:Predmet: Civilno pravo (CP)\, Predavanje (P)\nLetniki: 3. letn
 ik (B1)\nIzvajalci: Miha Juhart\, Damjan Možina\, Viktorija Žnidaršič 
 Skubic\nProstor: Vijolična predavalnica
LOCATION:Vijolična predavalnica
ORGANIZER:Miha Juhart, Damjan Možina, Viktorija Žnidaršič Skubic
RELATED-TO:pf-AFLABS-URNIK:srecanje:673
X-WR-TIMEZONE:Europe/Ljubljana
END:VEVENT
BEGIN:VEVENT
SUMMARY:Civilno pravo (CP)\, Predavanje (P)
DTSTART;TZID=Europe/Ljubljana:20260317T080000
DTEND;TZID=Europe/Ljubljana:20260317T110000
DTSTAMP:20260419T150646Z
UID:pf-AFLABS-URNIK:premaknjeno-srecanje:17832
ATTENDEE:3. letnik (B1)
CATEGORIES:Entry,Standard
COLOR:darkgreen
DESCRIPTION:Predmet: Civilno pravo (CP)\, Predavanje (P)\nLetniki: 3. letn
 ik (B1)\nIzvajalci: Miha Juhart\, Damjan Možina\, Viktorija Žnidaršič 
 Skubic\nProstor: Vijolična predavalnica
LOCATION:Vijolična predavalnica
ORGANIZER:Miha Juhart, Damjan Možina, Viktorija Žnidaršič Skubic
RELATED-TO:pf-AFLABS-URNIK:srecanje:673
X-WR-TIMEZONE:Europe/Ljubljana
END:VEVENT
BEGIN:VEVENT
SUMMARY:Civilno pravo (CP)\, Predavanje (P)
DTSTART;TZID=Europe/Ljubljana:20260324T080000
DTEND;TZID=Europe/Ljubljana:20260324T110000
DTSTAMP:20260419T150646Z
UID:pf-AFLABS-URNIK:premaknjeno-srecanje:17833
ATTENDEE:3. letnik (B1)
CATEGORIES:Entry,Standard
COLOR:darkgreen
DESCRIPTION:Predmet: Civilno pravo (CP)\, Predavanje (P)\nLetniki: 3. letn
 ik (B1)\nIzvajalci: Miha Juhart\, Damjan Možina\, Viktorija Žnidaršič 
 Skubic\nProstor: Vijolična predavalnica
LOCATION:Vijolična predavalnica
ORGANIZER:Miha Juhart, Damjan Možina, Viktorija Žnidaršič Skubic
RELATED-TO:pf-AFLABS-URNIK:srecanje:673
X-WR-TIMEZONE:Europe/Ljubljana
END:VEVENT
BEGIN:VEVENT
SUMMARY:Civilno pravo (CP)\, Predavanje (P)
DTSTART;TZID=Europe/Ljubljana:20260331T080000
DTEND;TZID=Europe/Ljubljana:20260331T110000
DTSTAMP:20260419T150646Z
UID:pf-AFLABS-URNIK:premaknjeno-srecanje:17834
ATTENDEE:3. letnik (B1)
CATEGORIES:Entry,Standard
COLOR:darkgreen
DESCRIPTION:Predmet: Civilno pravo (CP)\, Predavanje (P)\nLetniki: 3. letn
 ik (B1)\nIzvajalci: Miha Juhart\, Damjan Možina\, Viktorija Žnidaršič 
 Skubic\nProstor: Vijolična predavalnica
LOCATION:Vijolična predavalnica
ORGANIZER:Miha Juhart, Damjan Možina, Viktorija Žnidaršič Skubic
RELATED-TO:pf-AFLABS-URNIK:srecanje:673
X-WR-TIMEZONE:Europe/Ljubljana
END:VEVENT
BEGIN:VEVENT
SUMMARY:Civilno pravo (CP)\, Predavanje (P)
DTSTART;TZID=Europe/Ljubljana:20260407T080000
DTEND;TZID=Europe/Ljubljana:20260407T110000
DTSTAMP:20260419T150646Z
UID:pf-AFLABS-URNIK:premaknjeno-srecanje:17835
ATTENDEE:3. letnik (B1)
CATEGORIES:Entry,Standard
COLOR:darkgreen
DESCRIPTION:Predmet: Civilno pravo (CP)\, Predavanje (P)\nLetniki: 3. letn
 ik (B1)\nIzvajalci: Miha Juhart\, Damjan Možina\, Viktorija Žnidaršič 
 Skubic\nProstor: Vijolična predavalnica
LOCATION:Vijolična predavalnica
ORGANIZER:Miha Juhart, Damjan Možina, Viktorija Žnidaršič Skubic
RELATED-TO:pf-AFLABS-URNIK:srecanje:673
X-WR-TIMEZONE:Europe/Ljubljana
END:VEVENT
BEGIN:VEVENT
SUMMARY:Civilno pravo (CP)\, Predavanje (P)
DTSTART;TZID=Europe/Ljubljana:20260414T080000
DTEND;TZID=Europe/Ljubljana:20260414T110000
DTSTAMP:20260419T150646Z
UID:pf-AFLABS-URNIK:premaknjeno-srecanje:17836
ATTENDEE:3. letnik (B1)
CATEGORIES:Entry,Standard
COLOR:darkgreen
DESCRIPTION:Predmet: Civilno pravo (CP)\, Predavanje (P)\nLetniki: 3. letn
 ik (B1)\nIzvajalci: Miha Juhart\, Damjan Možina\, Viktorija Žnidaršič 
 Skubic\nProstor: Vijolična predavalnica
LOCATION:Vijolična predavalnica
ORGANIZER:Miha Juhart, Damjan Možina, Viktorija Žnidaršič Skubic
RELATED-TO:pf-AFLABS-URNIK:srecanje:673
X-WR-TIMEZONE:Europe/Ljubljana
END:VEVENT
BEGIN:VEVENT
SUMMARY:Civilno pravo (CP)\, Predavanje (P)
DTSTART;TZID=Europe/Ljubljana:20260421T080000
DTEND;TZID=Europe/Ljubljana:20260421T110000
DTSTAMP:20260419T150646Z
UID:pf-AFLABS-URNIK:premaknjeno-srecanje:17837
ATTENDEE:3. letnik (B1)
CATEGORIES:Entry,Standard
COLOR:darkgreen
DESCRIPTION:Predmet: Civilno pravo (CP)\, Predavanje (P)\nLetniki: 3. letn
 ik (B1)\nIzvajalci: Miha Juhart\, Damjan Možina\, Viktorija Žnidaršič 
 Skubic\nProstor: Vijolična predavalnica
LOCATION:Vijolična predavalnica
ORGANIZER:Miha Juhart, Damjan Možina, Viktorija Žnidaršič Skubic
RELATED-TO:pf-AFLABS-URNIK:srecanje:673
X-WR-TIMEZONE:Europe/Ljubljana
END:VEVENT
BEGIN:VEVENT
SUMMARY:Civilno pravo (CP)\, Predavanje (P)
DTSTART;TZID=Europe/Ljubljana:20260428T080000
DTEND;TZID=Europe/Ljubljana:20260428T110000
DTSTAMP:20260419T150646Z
UID:pf-AFLABS-URNIK:premaknjeno-srecanje:17838
ATTENDEE:3. letnik (B1)
CATEGORIES:Entry,Standard
COLOR:darkgreen
DESCRIPTION:Predmet: Civilno pravo (CP)\, Predavanje (P)\nLetniki: 3. letn
 ik (B1)\nIzvajalci: Miha Juhart\, Damjan Možina\, Viktorija Žnidaršič 
 Skubic\nProstor: Vijolična predavalnica
LOCATION:Vijolična predavalnica
ORGANIZER:Miha Juhart, Damjan Možina, Viktorija Žnidaršič Skubic
RELATED-TO:pf-AFLABS-URNIK:srecanje:673
X-WR-TIMEZONE:Europe/Ljubljana
END:VEVENT
BEGIN:VEVENT
SUMMARY:Civilno pravo (CP)\, Predavanje (P)
DTSTART;TZID=Europe/Ljubljana:20260505T080000
DTEND;TZID=Europe/Ljubljana:20260505T110000
DTSTAMP:20260419T150646Z
UID:pf-AFLABS-URNIK:premaknjeno-srecanje:17839
ATTENDEE:3. letnik (B1)
CATEGORIES:Entry,Standard
COLOR:darkgreen
DESCRIPTION:Predmet: Civilno pravo (CP)\, Predavanje (P)\nLetniki: 3. letn
 ik (B1)\nIzvajalci: Miha Juhart\, Damjan Možina\, Viktorija Žnidaršič 
 Skubic\nProstor: Vijolična predavalnica
LOCATION:Vijolična predavalnica
ORGANIZER:Miha Juhart, Damjan Možina, Viktorija Žnidaršič Skubic
RELATED-TO:pf-AFLABS-URNIK:srecanje:673
X-WR-TIMEZONE:Europe/Ljubljana
END:VEVENT
BEGIN:VEVENT
SUMMARY:Civilno pravo (CP)\, Predavanje (P)
DTSTART;TZID=Europe/Ljubljana:20260512T080000
DTEND;TZID=Europe/Ljubljana:20260512T110000
DTSTAMP:20260419T150646Z
UID:pf-AFLABS-URNIK:premaknjeno-srecanje:17840
ATTENDEE:3. letnik (B1)
CATEGORIES:Entry,Standard
COLOR:darkgreen
DESCRIPTION:Predmet: Civilno pravo (CP)\, Predavanje (P)\nLetniki: 3. letn
 ik (B1)\nIzvajalci: Miha Juhart\, Damjan Možina\, Viktorija Žnidaršič 
 Skubic\nProstor: Vijolična predavalnica
LOCATION:Vijolična predavalnica
ORGANIZER:Miha Juhart, Damjan Možina, Viktorija Žnidaršič Skubic
RELATED-TO:pf-AFLABS-URNIK:srecanje:673
X-WR-TIMEZONE:Europe/Ljubljana
END:VEVENT
BEGIN:VEVENT
SUMMARY:Civilno pravo (CP)\, Predavanje (P)
DTSTART;TZID=Europe/Ljubljana:20260519T080000
DTEND;TZID=Europe/Ljubljana:20260519T110000
DTSTAMP:20260419T150646Z
UID:pf-AFLABS-URNIK:premaknjeno-srecanje:17841
ATTENDEE:3. letnik (B1)
CATEGORIES:Entry,Standard
COLOR:darkgreen
DESCRIPTION:Predmet: Civilno pravo (CP)\, Predavanje (P)\nLetniki: 3. letn
 ik (B1)\nIzvajalci: Miha Juhart\, Damjan Možina\, Viktorija Žnidaršič 
 Skubic\nProstor: Vijolična predavalnica
LOCATION:Vijolična predavalnica
ORGANIZER:Miha Juhart, Damjan Možina, Viktorija Žnidaršič Skubic
RELATED-TO:pf-AFLABS-URNIK:srecanje:673
X-WR-TIMEZONE:Europe/Ljubljana
END:VEVENT
BEGIN:VEVENT
SUMMARY:UO PF
DTSTART;TZID=Europe/Ljubljana:20260226T120000
DTEND;TZID=Europe/Ljubljana:20260226T140000
DTSTAMP:20260419T150646Z
UID:pf-AFLABS-URNIK:rezervacija:356
CATEGORIES:Reservation
COLOR:royalblue
DESCRIPTION:Predmeti: \nLetniki: \nIzvajalci: Miha Hafner\, Irena Kordež\
 , Maša Kovič Dine\, Nevenka Mehle\, Neža Pogorelčnik Vogrinc\, Katja 
 Štemberger Brizani\, Viktorija Žnidaršič Skubic\nProstori: Senatna sob
 a
LOCATION:Senatna soba
ORGANIZER:Miha Hafner, Irena Kordež, Maša Kovič Dine, Nevenka Mehle, Ne
 ža Pogorelčnik Vogrinc, Katja Štemberger Brizani, Viktorija Žnidarši
 č Skubic
X-WR-TIMEZONE:Europe/Ljubljana
END:VEVENT
BEGIN:VEVENT
SUMMARY:UO PF
DTSTART;TZID=Europe/Ljubljana:20260326T120000
DTEND;TZID=Europe/Ljubljana:20260326T140000
DTSTAMP:20260419T150646Z
UID:pf-AFLABS-URNIK:rezervacija:357
CATEGORIES:Reservation
COLOR:royalblue
DESCRIPTION:Predmeti: \nLetniki: \nIzvajalci: Miha Hafner\, Irena Kordež\
 , Maša Kovič Dine\, Nevenka Mehle\, Neža Pogorelčnik Vogrinc\, Katja 
 Štemberger Brizani\, Viktorija Žnidaršič Skubic\nProstori: Senatna sob
 a
LOCATION:Senatna soba
ORGANIZER:Miha Hafner, Irena Kordež, Maša Kovič Dine, Nevenka Mehle, Ne
 ža Pogorelčnik Vogrinc, Katja Štemberger Brizani, Viktorija Žnidarši
 č Skubic
X-WR-TIMEZONE:Europe/Ljubljana
END:VEVENT
BEGIN:VEVENT
SUMMARY:UO PF
DTSTART;TZID=Europe/Ljubljana:20260430T120000
DTEND;TZID=Europe/Ljubljana:20260430T140000
DTSTAMP:20260419T150646Z
UID:pf-AFLABS-URNIK:rezervacija:358
CATEGORIES:Reservation
COLOR:royalblue
DESCRIPTION:Predmeti: \nLetniki: \nIzvajalci: Miha Hafner\, Irena Kordež\
 , Maša Kovič Dine\, Nevenka Mehle\, Neža Pogorelčnik Vogrinc\, Katja 
 Štemberger Brizani\, Viktorija Žnidaršič Skubic\nProstori: Senatna sob
 a
LOCATION:Senatna soba
ORGANIZER:Miha Hafner, Irena Kordež, Maša Kovič Dine, Nevenka Mehle, Ne
 ža Pogorelčnik Vogrinc, Katja Štemberger Brizani, Viktorija Žnidarši
 č Skubic
X-WR-TIMEZONE:Europe/Ljubljana
END:VEVENT
END:VCALENDAR
