BEGIN:VCALENDAR
VERSION:2.0
PRODID:-//AFLabs urnik izvoz - pf//aflabs.si//SI
DTSTAMP:20260419T150644Z
NAME:UL PF Urnik
REFRESH-INTERVAL:PT1H
SOURCE:https://afurnik-pf.dev.aflabs.org/subject/103/?export=1&sub_type=1
URL:https://afurnik-pf.dev.aflabs.org/subject/103/?export=1&sub_type=1
X-PUBLISHED-TTL:PT1H
X-WR-CALNAME:UL PF Urnik
X-WR-TIMEZONE:Europe/Ljubljana
BEGIN:VTIMEZONE
TZID:Europe/Ljubljana
BEGIN:DAYLIGHT
DTSTART:20260329T020000
RDATE:20260329T020000
RDATE:20270328T020000
TZNAME:CEST
TZOFFSETFROM:+0100
TZOFFSETTO:+0200
END:DAYLIGHT
BEGIN:STANDARD
DTSTART:20261025T030000
RDATE:20261025T030000
RDATE:20271031T030000
TZNAME:CET
TZOFFSETFROM:+0200
TZOFFSETTO:+0100
END:STANDARD
END:VTIMEZONE
BEGIN:VEVENT
SUMMARY:Obligacijsko pravo (OBL)\, Vaje (V)\, [1]
DTSTART;TZID=Europe/Ljubljana:20260205T100000
DTEND;TZID=Europe/Ljubljana:20260205T120000
DTSTAMP:20260419T150644Z
UID:pf-AFLABS-URNIK:premaknjeno-srecanje:19746
ATTENDEE:3. letnik (EM)
CATEGORIES:Entry,Standard
COLOR:darkgreen
DESCRIPTION:Predmet: Obligacijsko pravo (OBL)\, Vaje (V)\, [1]\nLetniki: 3
 . letnik (EM)\nIzvajalci: Karmen Lutman\nProstor: Seminar 3
LOCATION:Seminar 3
ORGANIZER:Karmen Lutman
RELATED-TO:pf-AFLABS-URNIK:srecanje:810
X-WR-TIMEZONE:Europe/Ljubljana
END:VEVENT
BEGIN:VEVENT
SUMMARY:Obligacijsko pravo (OBL)\, Vaje (V)\, [1]
DTSTART;TZID=Europe/Ljubljana:20260212T100000
DTEND;TZID=Europe/Ljubljana:20260212T120000
DTSTAMP:20260419T150644Z
UID:pf-AFLABS-URNIK:premaknjeno-srecanje:19747
ATTENDEE:3. letnik (EM)
CATEGORIES:Entry,Standard
COLOR:darkgreen
DESCRIPTION:Predmet: Obligacijsko pravo (OBL)\, Vaje (V)\, [1]\nLetniki: 3
 . letnik (EM)\nIzvajalci: Karmen Lutman\nProstor: Seminar 3
LOCATION:Seminar 3
ORGANIZER:Karmen Lutman
RELATED-TO:pf-AFLABS-URNIK:srecanje:810
X-WR-TIMEZONE:Europe/Ljubljana
END:VEVENT
BEGIN:VEVENT
SUMMARY:Obligacijsko pravo (OBL)\, Vaje (V)\, [1]
DTSTART;TZID=Europe/Ljubljana:20260219T100000
DTEND;TZID=Europe/Ljubljana:20260219T120000
DTSTAMP:20260419T150644Z
UID:pf-AFLABS-URNIK:premaknjeno-srecanje:19748
ATTENDEE:3. letnik (EM)
CATEGORIES:Entry,Standard
COLOR:darkgreen
DESCRIPTION:Predmet: Obligacijsko pravo (OBL)\, Vaje (V)\, [1]\nLetniki: 3
 . letnik (EM)\nIzvajalci: Karmen Lutman\nProstor: Seminar 3
LOCATION:Seminar 3
ORGANIZER:Karmen Lutman
RELATED-TO:pf-AFLABS-URNIK:srecanje:810
X-WR-TIMEZONE:Europe/Ljubljana
END:VEVENT
BEGIN:VEVENT
SUMMARY:Obligacijsko pravo (OBL)\, Vaje (V)\, [1]
DTSTART;TZID=Europe/Ljubljana:20260226T100000
DTEND;TZID=Europe/Ljubljana:20260226T120000
DTSTAMP:20260419T150644Z
UID:pf-AFLABS-URNIK:premaknjeno-srecanje:19749
ATTENDEE:3. letnik (EM)
CATEGORIES:Entry,Standard
COLOR:darkgreen
DESCRIPTION:Predmet: Obligacijsko pravo (OBL)\, Vaje (V)\, [1]\nLetniki: 3
 . letnik (EM)\nIzvajalci: Karmen Lutman\nProstor: Seminar 3
LOCATION:Seminar 3
ORGANIZER:Karmen Lutman
RELATED-TO:pf-AFLABS-URNIK:srecanje:810
X-WR-TIMEZONE:Europe/Ljubljana
END:VEVENT
BEGIN:VEVENT
SUMMARY:Obligacijsko pravo (OBL)\, Vaje (V)\, [1]
DTSTART;TZID=Europe/Ljubljana:20260305T100000
DTEND;TZID=Europe/Ljubljana:20260305T120000
DTSTAMP:20260419T150644Z
UID:pf-AFLABS-URNIK:premaknjeno-srecanje:13068
ATTENDEE:3. letnik (EM)
CATEGORIES:Entry,Standard
COLOR:darkgreen
DESCRIPTION:Predmet: Obligacijsko pravo (OBL)\, Vaje (V)\, [1]\nLetniki: 3
 . letnik (EM)\nIzvajalci: Karmen Lutman\nProstor: Seminar 3
LOCATION:Seminar 3
ORGANIZER:Karmen Lutman
RELATED-TO:pf-AFLABS-URNIK:srecanje:810
X-WR-TIMEZONE:Europe/Ljubljana
END:VEVENT
BEGIN:VEVENT
SUMMARY:Obligacijsko pravo (OBL)\, Vaje (V)\, [1]
DTSTART;TZID=Europe/Ljubljana:20260312T100000
DTEND;TZID=Europe/Ljubljana:20260312T120000
DTSTAMP:20260419T150644Z
UID:pf-AFLABS-URNIK:premaknjeno-srecanje:19750
ATTENDEE:3. letnik (EM)
CATEGORIES:Entry,Standard
COLOR:darkgreen
DESCRIPTION:Predmet: Obligacijsko pravo (OBL)\, Vaje (V)\, [1]\nLetniki: 3
 . letnik (EM)\nIzvajalci: Karmen Lutman\nProstor: Seminar 3
LOCATION:Seminar 3
ORGANIZER:Karmen Lutman
RELATED-TO:pf-AFLABS-URNIK:srecanje:810
X-WR-TIMEZONE:Europe/Ljubljana
END:VEVENT
BEGIN:VEVENT
SUMMARY:Obligacijsko pravo (OBL)\, Vaje (V)\, [1]
DTSTART;TZID=Europe/Ljubljana:20260319T100000
DTEND;TZID=Europe/Ljubljana:20260319T120000
DTSTAMP:20260419T150644Z
UID:pf-AFLABS-URNIK:premaknjeno-srecanje:19751
ATTENDEE:3. letnik (EM)
CATEGORIES:Entry,Standard
COLOR:darkgreen
DESCRIPTION:Predmet: Obligacijsko pravo (OBL)\, Vaje (V)\, [1]\nLetniki: 3
 . letnik (EM)\nIzvajalci: Karmen Lutman\nProstor: Seminar 3
LOCATION:Seminar 3
ORGANIZER:Karmen Lutman
RELATED-TO:pf-AFLABS-URNIK:srecanje:810
X-WR-TIMEZONE:Europe/Ljubljana
END:VEVENT
BEGIN:VEVENT
SUMMARY:Obligacijsko pravo (OBL)\, Vaje (V)\, [1]
DTSTART;TZID=Europe/Ljubljana:20260326T100000
DTEND;TZID=Europe/Ljubljana:20260326T120000
DTSTAMP:20260419T150644Z
UID:pf-AFLABS-URNIK:premaknjeno-srecanje:19752
ATTENDEE:3. letnik (EM)
CATEGORIES:Entry,Standard
COLOR:darkgreen
DESCRIPTION:Predmet: Obligacijsko pravo (OBL)\, Vaje (V)\, [1]\nLetniki: 3
 . letnik (EM)\nIzvajalci: Karmen Lutman\nProstor: Seminar 3
LOCATION:Seminar 3
ORGANIZER:Karmen Lutman
RELATED-TO:pf-AFLABS-URNIK:srecanje:810
X-WR-TIMEZONE:Europe/Ljubljana
END:VEVENT
BEGIN:VEVENT
SUMMARY:Obligacijsko pravo (OBL)\, Vaje (V)\, [1]
DTSTART;TZID=Europe/Ljubljana:20260402T100000
DTEND;TZID=Europe/Ljubljana:20260402T120000
DTSTAMP:20260419T150644Z
UID:pf-AFLABS-URNIK:premaknjeno-srecanje:19753
ATTENDEE:3. letnik (EM)
CATEGORIES:Entry,Standard
COLOR:darkgreen
DESCRIPTION:Predmet: Obligacijsko pravo (OBL)\, Vaje (V)\, [1]\nLetniki: 3
 . letnik (EM)\nIzvajalci: Karmen Lutman\nProstor: Seminar 3
LOCATION:Seminar 3
ORGANIZER:Karmen Lutman
RELATED-TO:pf-AFLABS-URNIK:srecanje:810
X-WR-TIMEZONE:Europe/Ljubljana
END:VEVENT
BEGIN:VEVENT
SUMMARY:Obligacijsko pravo (OBL)\, Vaje (V)\, [1]
DTSTART;TZID=Europe/Ljubljana:20260409T100000
DTEND;TZID=Europe/Ljubljana:20260409T120000
DTSTAMP:20260419T150644Z
UID:pf-AFLABS-URNIK:premaknjeno-srecanje:19754
ATTENDEE:3. letnik (EM)
CATEGORIES:Entry,Standard
COLOR:darkgreen
DESCRIPTION:Predmet: Obligacijsko pravo (OBL)\, Vaje (V)\, [1]\nLetniki: 3
 . letnik (EM)\nIzvajalci: Karmen Lutman\nProstor: Seminar 3
LOCATION:Seminar 3
ORGANIZER:Karmen Lutman
RELATED-TO:pf-AFLABS-URNIK:srecanje:810
X-WR-TIMEZONE:Europe/Ljubljana
END:VEVENT
BEGIN:VEVENT
SUMMARY:Obligacijsko pravo (OBL)\, Vaje (V)\, [1]
DTSTART;TZID=Europe/Ljubljana:20260416T100000
DTEND;TZID=Europe/Ljubljana:20260416T120000
DTSTAMP:20260419T150644Z
UID:pf-AFLABS-URNIK:premaknjeno-srecanje:19755
ATTENDEE:3. letnik (EM)
CATEGORIES:Entry,Standard
COLOR:darkgreen
DESCRIPTION:Predmet: Obligacijsko pravo (OBL)\, Vaje (V)\, [1]\nLetniki: 3
 . letnik (EM)\nIzvajalci: Karmen Lutman\nProstor: Seminar 3
LOCATION:Seminar 3
ORGANIZER:Karmen Lutman
RELATED-TO:pf-AFLABS-URNIK:srecanje:810
X-WR-TIMEZONE:Europe/Ljubljana
END:VEVENT
BEGIN:VEVENT
SUMMARY:Obligacijsko pravo (OBL)\, Vaje (V)\, [1]
DTSTART;TZID=Europe/Ljubljana:20260423T100000
DTEND;TZID=Europe/Ljubljana:20260423T120000
DTSTAMP:20260419T150644Z
UID:pf-AFLABS-URNIK:premaknjeno-srecanje:19756
ATTENDEE:3. letnik (EM)
CATEGORIES:Entry,Standard
COLOR:darkgreen
DESCRIPTION:Predmet: Obligacijsko pravo (OBL)\, Vaje (V)\, [1]\nLetniki: 3
 . letnik (EM)\nIzvajalci: Karmen Lutman\nProstor: Seminar 3
LOCATION:Seminar 3
ORGANIZER:Karmen Lutman
RELATED-TO:pf-AFLABS-URNIK:srecanje:810
X-WR-TIMEZONE:Europe/Ljubljana
END:VEVENT
BEGIN:VEVENT
SUMMARY:Obligacijsko pravo (OBL)\, Vaje (V)\, [1]
DTSTART;TZID=Europe/Ljubljana:20260430T100000
DTEND;TZID=Europe/Ljubljana:20260430T120000
DTSTAMP:20260419T150644Z
UID:pf-AFLABS-URNIK:premaknjeno-srecanje:19757
ATTENDEE:3. letnik (EM)
CATEGORIES:Entry,Standard
COLOR:darkgreen
DESCRIPTION:Predmet: Obligacijsko pravo (OBL)\, Vaje (V)\, [1]\nLetniki: 3
 . letnik (EM)\nIzvajalci: Karmen Lutman\nProstor: Seminar 3
LOCATION:Seminar 3
ORGANIZER:Karmen Lutman
RELATED-TO:pf-AFLABS-URNIK:srecanje:810
X-WR-TIMEZONE:Europe/Ljubljana
END:VEVENT
BEGIN:VEVENT
SUMMARY:Obligacijsko pravo (OBL)\, Vaje (V)\, [1]
DTSTART;TZID=Europe/Ljubljana:20260507T100000
DTEND;TZID=Europe/Ljubljana:20260507T120000
DTSTAMP:20260419T150644Z
UID:pf-AFLABS-URNIK:premaknjeno-srecanje:19758
ATTENDEE:3. letnik (EM)
CATEGORIES:Entry,Standard
COLOR:darkgreen
DESCRIPTION:Predmet: Obligacijsko pravo (OBL)\, Vaje (V)\, [1]\nLetniki: 3
 . letnik (EM)\nIzvajalci: Karmen Lutman\nProstor: Seminar 3
LOCATION:Seminar 3
ORGANIZER:Karmen Lutman
RELATED-TO:pf-AFLABS-URNIK:srecanje:810
X-WR-TIMEZONE:Europe/Ljubljana
END:VEVENT
BEGIN:VEVENT
SUMMARY:Obligacijsko pravo (OBL)\, Vaje (V)\, [1]
DTSTART;TZID=Europe/Ljubljana:20260514T100000
DTEND;TZID=Europe/Ljubljana:20260514T120000
DTSTAMP:20260419T150644Z
UID:pf-AFLABS-URNIK:premaknjeno-srecanje:19759
ATTENDEE:3. letnik (EM)
CATEGORIES:Entry,Standard
COLOR:darkgreen
DESCRIPTION:Predmet: Obligacijsko pravo (OBL)\, Vaje (V)\, [1]\nLetniki: 3
 . letnik (EM)\nIzvajalci: Karmen Lutman\nProstor: Seminar 3
LOCATION:Seminar 3
ORGANIZER:Karmen Lutman
RELATED-TO:pf-AFLABS-URNIK:srecanje:810
X-WR-TIMEZONE:Europe/Ljubljana
END:VEVENT
BEGIN:VEVENT
SUMMARY:Obligacijsko pravo (OBL)\, Predavanje (P)
DTSTART;TZID=Europe/Ljubljana:20260210T080000
DTEND;TZID=Europe/Ljubljana:20260210T110000
DTSTAMP:20260419T150644Z
UID:pf-AFLABS-URNIK:premaknjeno-srecanje:19732
ATTENDEE:3. letnik (EM)
CATEGORIES:Entry,Standard
COLOR:darkgreen
DESCRIPTION:Predmet: Obligacijsko pravo (OBL)\, Predavanje (P)\nLetniki: 3
 . letnik (EM)\nIzvajalci: Damjan Možina\nProstor: Vijolična predavalnica
LOCATION:Vijolična predavalnica
ORGANIZER:Damjan Možina
RELATED-TO:pf-AFLABS-URNIK:srecanje:809
X-WR-TIMEZONE:Europe/Ljubljana
END:VEVENT
BEGIN:VEVENT
SUMMARY:Obligacijsko pravo (OBL)\, Predavanje (P)
DTSTART;TZID=Europe/Ljubljana:20260217T080000
DTEND;TZID=Europe/Ljubljana:20260217T110000
DTSTAMP:20260419T150644Z
UID:pf-AFLABS-URNIK:premaknjeno-srecanje:19733
ATTENDEE:3. letnik (EM)
CATEGORIES:Entry,Standard
COLOR:darkgreen
DESCRIPTION:Predmet: Obligacijsko pravo (OBL)\, Predavanje (P)\nLetniki: 3
 . letnik (EM)\nIzvajalci: Damjan Možina\nProstor: Vijolična predavalnica
LOCATION:Vijolična predavalnica
ORGANIZER:Damjan Možina
RELATED-TO:pf-AFLABS-URNIK:srecanje:809
X-WR-TIMEZONE:Europe/Ljubljana
END:VEVENT
BEGIN:VEVENT
SUMMARY:Obligacijsko pravo (OBL)\, Predavanje (P)
DTSTART;TZID=Europe/Ljubljana:20260224T080000
DTEND;TZID=Europe/Ljubljana:20260224T110000
DTSTAMP:20260419T150644Z
UID:pf-AFLABS-URNIK:premaknjeno-srecanje:19734
ATTENDEE:3. letnik (EM)
CATEGORIES:Entry,Standard
COLOR:darkgreen
DESCRIPTION:Predmet: Obligacijsko pravo (OBL)\, Predavanje (P)\nLetniki: 3
 . letnik (EM)\nIzvajalci: Damjan Možina\nProstor: Vijolična predavalnica
LOCATION:Vijolična predavalnica
ORGANIZER:Damjan Možina
RELATED-TO:pf-AFLABS-URNIK:srecanje:809
X-WR-TIMEZONE:Europe/Ljubljana
END:VEVENT
BEGIN:VEVENT
SUMMARY:Obligacijsko pravo (OBL)\, Predavanje (P)
DTSTART;TZID=Europe/Ljubljana:20260303T080000
DTEND;TZID=Europe/Ljubljana:20260303T110000
DTSTAMP:20260419T150644Z
UID:pf-AFLABS-URNIK:premaknjeno-srecanje:13052
ATTENDEE:3. letnik (EM)
CATEGORIES:Entry,Standard
COLOR:darkgreen
DESCRIPTION:Predmet: Obligacijsko pravo (OBL)\, Predavanje (P)\nLetniki: 3
 . letnik (EM)\nIzvajalci: Damjan Možina\nProstor: Vijolična predavalnica
LOCATION:Vijolična predavalnica
ORGANIZER:Damjan Možina
RELATED-TO:pf-AFLABS-URNIK:srecanje:809
X-WR-TIMEZONE:Europe/Ljubljana
END:VEVENT
BEGIN:VEVENT
SUMMARY:Obligacijsko pravo (OBL)\, Predavanje (P)
DTSTART;TZID=Europe/Ljubljana:20260310T080000
DTEND;TZID=Europe/Ljubljana:20260310T110000
DTSTAMP:20260419T150644Z
UID:pf-AFLABS-URNIK:premaknjeno-srecanje:19735
ATTENDEE:3. letnik (EM)
CATEGORIES:Entry,Standard
COLOR:darkgreen
DESCRIPTION:Predmet: Obligacijsko pravo (OBL)\, Predavanje (P)\nLetniki: 3
 . letnik (EM)\nIzvajalci: Damjan Možina\nProstor: Vijolična predavalnica
LOCATION:Vijolična predavalnica
ORGANIZER:Damjan Možina
RELATED-TO:pf-AFLABS-URNIK:srecanje:809
X-WR-TIMEZONE:Europe/Ljubljana
END:VEVENT
BEGIN:VEVENT
SUMMARY:Obligacijsko pravo (OBL)\, Predavanje (P)
DTSTART;TZID=Europe/Ljubljana:20260317T080000
DTEND;TZID=Europe/Ljubljana:20260317T110000
DTSTAMP:20260419T150644Z
UID:pf-AFLABS-URNIK:premaknjeno-srecanje:19736
ATTENDEE:3. letnik (EM)
CATEGORIES:Entry,Standard
COLOR:darkgreen
DESCRIPTION:Predmet: Obligacijsko pravo (OBL)\, Predavanje (P)\nLetniki: 3
 . letnik (EM)\nIzvajalci: Damjan Možina\nProstor: Vijolična predavalnica
LOCATION:Vijolična predavalnica
ORGANIZER:Damjan Možina
RELATED-TO:pf-AFLABS-URNIK:srecanje:809
X-WR-TIMEZONE:Europe/Ljubljana
END:VEVENT
BEGIN:VEVENT
SUMMARY:Obligacijsko pravo (OBL)\, Predavanje (P)
DTSTART;TZID=Europe/Ljubljana:20260324T080000
DTEND;TZID=Europe/Ljubljana:20260324T110000
DTSTAMP:20260419T150644Z
UID:pf-AFLABS-URNIK:premaknjeno-srecanje:19737
ATTENDEE:3. letnik (EM)
CATEGORIES:Entry,Standard
COLOR:darkgreen
DESCRIPTION:Predmet: Obligacijsko pravo (OBL)\, Predavanje (P)\nLetniki: 3
 . letnik (EM)\nIzvajalci: Damjan Možina\nProstor: Vijolična predavalnica
LOCATION:Vijolična predavalnica
ORGANIZER:Damjan Možina
RELATED-TO:pf-AFLABS-URNIK:srecanje:809
X-WR-TIMEZONE:Europe/Ljubljana
END:VEVENT
BEGIN:VEVENT
SUMMARY:Obligacijsko pravo (OBL)\, Predavanje (P)
DTSTART;TZID=Europe/Ljubljana:20260331T080000
DTEND;TZID=Europe/Ljubljana:20260331T110000
DTSTAMP:20260419T150644Z
UID:pf-AFLABS-URNIK:premaknjeno-srecanje:19738
ATTENDEE:3. letnik (EM)
CATEGORIES:Entry,Standard
COLOR:darkgreen
DESCRIPTION:Predmet: Obligacijsko pravo (OBL)\, Predavanje (P)\nLetniki: 3
 . letnik (EM)\nIzvajalci: Damjan Možina\nProstor: Vijolična predavalnica
LOCATION:Vijolična predavalnica
ORGANIZER:Damjan Možina
RELATED-TO:pf-AFLABS-URNIK:srecanje:809
X-WR-TIMEZONE:Europe/Ljubljana
END:VEVENT
BEGIN:VEVENT
SUMMARY:Obligacijsko pravo (OBL)\, Predavanje (P)
DTSTART;TZID=Europe/Ljubljana:20260407T080000
DTEND;TZID=Europe/Ljubljana:20260407T110000
DTSTAMP:20260419T150644Z
UID:pf-AFLABS-URNIK:premaknjeno-srecanje:19739
ATTENDEE:3. letnik (EM)
CATEGORIES:Entry,Standard
COLOR:darkgreen
DESCRIPTION:Predmet: Obligacijsko pravo (OBL)\, Predavanje (P)\nLetniki: 3
 . letnik (EM)\nIzvajalci: Damjan Možina\nProstor: Vijolična predavalnica
LOCATION:Vijolična predavalnica
ORGANIZER:Damjan Možina
RELATED-TO:pf-AFLABS-URNIK:srecanje:809
X-WR-TIMEZONE:Europe/Ljubljana
END:VEVENT
BEGIN:VEVENT
SUMMARY:Obligacijsko pravo (OBL)\, Predavanje (P)
DTSTART;TZID=Europe/Ljubljana:20260414T080000
DTEND;TZID=Europe/Ljubljana:20260414T110000
DTSTAMP:20260419T150644Z
UID:pf-AFLABS-URNIK:premaknjeno-srecanje:19740
ATTENDEE:3. letnik (EM)
CATEGORIES:Entry,Standard
COLOR:darkgreen
DESCRIPTION:Predmet: Obligacijsko pravo (OBL)\, Predavanje (P)\nLetniki: 3
 . letnik (EM)\nIzvajalci: Damjan Možina\nProstor: Vijolična predavalnica
LOCATION:Vijolična predavalnica
ORGANIZER:Damjan Možina
RELATED-TO:pf-AFLABS-URNIK:srecanje:809
X-WR-TIMEZONE:Europe/Ljubljana
END:VEVENT
BEGIN:VEVENT
SUMMARY:Obligacijsko pravo (OBL)\, Predavanje (P)
DTSTART;TZID=Europe/Ljubljana:20260421T080000
DTEND;TZID=Europe/Ljubljana:20260421T110000
DTSTAMP:20260419T150644Z
UID:pf-AFLABS-URNIK:premaknjeno-srecanje:19741
ATTENDEE:3. letnik (EM)
CATEGORIES:Entry,Standard
COLOR:darkgreen
DESCRIPTION:Predmet: Obligacijsko pravo (OBL)\, Predavanje (P)\nLetniki: 3
 . letnik (EM)\nIzvajalci: Damjan Možina\nProstor: Vijolična predavalnica
LOCATION:Vijolična predavalnica
ORGANIZER:Damjan Možina
RELATED-TO:pf-AFLABS-URNIK:srecanje:809
X-WR-TIMEZONE:Europe/Ljubljana
END:VEVENT
BEGIN:VEVENT
SUMMARY:Obligacijsko pravo (OBL)\, Predavanje (P)
DTSTART;TZID=Europe/Ljubljana:20260428T080000
DTEND;TZID=Europe/Ljubljana:20260428T110000
DTSTAMP:20260419T150644Z
UID:pf-AFLABS-URNIK:premaknjeno-srecanje:19742
ATTENDEE:3. letnik (EM)
CATEGORIES:Entry,Standard
COLOR:darkgreen
DESCRIPTION:Predmet: Obligacijsko pravo (OBL)\, Predavanje (P)\nLetniki: 3
 . letnik (EM)\nIzvajalci: Damjan Možina\nProstor: Vijolična predavalnica
LOCATION:Vijolična predavalnica
ORGANIZER:Damjan Možina
RELATED-TO:pf-AFLABS-URNIK:srecanje:809
X-WR-TIMEZONE:Europe/Ljubljana
END:VEVENT
BEGIN:VEVENT
SUMMARY:Obligacijsko pravo (OBL)\, Predavanje (P)
DTSTART;TZID=Europe/Ljubljana:20260505T080000
DTEND;TZID=Europe/Ljubljana:20260505T110000
DTSTAMP:20260419T150644Z
UID:pf-AFLABS-URNIK:premaknjeno-srecanje:19743
ATTENDEE:3. letnik (EM)
CATEGORIES:Entry,Standard
COLOR:darkgreen
DESCRIPTION:Predmet: Obligacijsko pravo (OBL)\, Predavanje (P)\nLetniki: 3
 . letnik (EM)\nIzvajalci: Damjan Možina\nProstor: Vijolična predavalnica
LOCATION:Vijolična predavalnica
ORGANIZER:Damjan Možina
RELATED-TO:pf-AFLABS-URNIK:srecanje:809
X-WR-TIMEZONE:Europe/Ljubljana
END:VEVENT
BEGIN:VEVENT
SUMMARY:Obligacijsko pravo (OBL)\, Predavanje (P)
DTSTART;TZID=Europe/Ljubljana:20260512T080000
DTEND;TZID=Europe/Ljubljana:20260512T110000
DTSTAMP:20260419T150644Z
UID:pf-AFLABS-URNIK:premaknjeno-srecanje:19744
ATTENDEE:3. letnik (EM)
CATEGORIES:Entry,Standard
COLOR:darkgreen
DESCRIPTION:Predmet: Obligacijsko pravo (OBL)\, Predavanje (P)\nLetniki: 3
 . letnik (EM)\nIzvajalci: Damjan Možina\nProstor: Vijolična predavalnica
LOCATION:Vijolična predavalnica
ORGANIZER:Damjan Možina
RELATED-TO:pf-AFLABS-URNIK:srecanje:809
X-WR-TIMEZONE:Europe/Ljubljana
END:VEVENT
BEGIN:VEVENT
SUMMARY:Obligacijsko pravo (OBL)\, Predavanje (P)
DTSTART;TZID=Europe/Ljubljana:20260519T080000
DTEND;TZID=Europe/Ljubljana:20260519T110000
DTSTAMP:20260419T150644Z
UID:pf-AFLABS-URNIK:premaknjeno-srecanje:19745
ATTENDEE:3. letnik (EM)
CATEGORIES:Entry,Standard
COLOR:darkgreen
DESCRIPTION:Predmet: Obligacijsko pravo (OBL)\, Predavanje (P)\nLetniki: 3
 . letnik (EM)\nIzvajalci: Damjan Možina\nProstor: Vijolična predavalnica
LOCATION:Vijolična predavalnica
ORGANIZER:Damjan Možina
RELATED-TO:pf-AFLABS-URNIK:srecanje:809
X-WR-TIMEZONE:Europe/Ljubljana
END:VEVENT
BEGIN:VEVENT
SUMMARY:Obligacijsko pravo-vaje
DTSTART;TZID=Europe/Ljubljana:20260216T180000
DTEND;TZID=Europe/Ljubljana:20260216T200000
DTSTAMP:20260419T150644Z
UID:pf-AFLABS-URNIK:rezervacija:1574
ATTENDEE:3. letnik (EM)
CATEGORIES:Reservation
COLOR:royalblue
DESCRIPTION:Predmeti: Obligacijsko pravo (OBL)\nLetniki: 3. letnik (EM)\nI
 zvajalci: Urška Janežič\nProstori: Vijolična predavalnica
LOCATION:Vijolična predavalnica
ORGANIZER:Urška Janežič
X-WR-TIMEZONE:Europe/Ljubljana
END:VEVENT
BEGIN:VEVENT
SUMMARY:Obligacijsko pravo-vaje
DTSTART;TZID=Europe/Ljubljana:20260209T180000
DTEND;TZID=Europe/Ljubljana:20260209T200000
DTSTAMP:20260419T150644Z
UID:pf-AFLABS-URNIK:rezervacija:1599
ATTENDEE:3. letnik (EM)
CATEGORIES:Reservation
COLOR:royalblue
DESCRIPTION:Predmeti: Obligacijsko pravo (OBL)\nLetniki: 3. letnik (EM)\nI
 zvajalci: Urška Janežič\nProstori: Modra predavalnica
LOCATION:Modra predavalnica
ORGANIZER:Urška Janežič
X-WR-TIMEZONE:Europe/Ljubljana
END:VEVENT
BEGIN:VEVENT
SUMMARY:Obligacijsko pravo-vaje
DTSTART;TZID=Europe/Ljubljana:20260223T180000
DTEND;TZID=Europe/Ljubljana:20260223T200000
DTSTAMP:20260419T150644Z
UID:pf-AFLABS-URNIK:rezervacija:1600
ATTENDEE:3. letnik (EM)
CATEGORIES:Reservation
COLOR:royalblue
DESCRIPTION:Predmeti: Obligacijsko pravo (OBL)\nLetniki: 3. letnik (EM)\nI
 zvajalci: Urška Janežič\nProstori: Modra predavalnica
LOCATION:Modra predavalnica
ORGANIZER:Urška Janežič
X-WR-TIMEZONE:Europe/Ljubljana
END:VEVENT
BEGIN:VEVENT
SUMMARY:Obligacijsko pravo-vaje
DTSTART;TZID=Europe/Ljubljana:20260302T180000
DTEND;TZID=Europe/Ljubljana:20260302T200000
DTSTAMP:20260419T150644Z
UID:pf-AFLABS-URNIK:rezervacija:1601
ATTENDEE:3. letnik (EM)
CATEGORIES:Reservation
COLOR:royalblue
DESCRIPTION:Predmeti: Obligacijsko pravo (OBL)\nLetniki: 3. letnik (EM)\nI
 zvajalci: Urška Janežič\nProstori: Modra predavalnica
LOCATION:Modra predavalnica
ORGANIZER:Urška Janežič
X-WR-TIMEZONE:Europe/Ljubljana
END:VEVENT
BEGIN:VEVENT
SUMMARY:Obligacijsko pravo-vaje
DTSTART;TZID=Europe/Ljubljana:20260309T180000
DTEND;TZID=Europe/Ljubljana:20260309T200000
DTSTAMP:20260419T150644Z
UID:pf-AFLABS-URNIK:rezervacija:1602
ATTENDEE:3. letnik (EM)
CATEGORIES:Reservation
COLOR:royalblue
DESCRIPTION:Predmeti: Obligacijsko pravo (OBL)\nLetniki: 3. letnik (EM)\nI
 zvajalci: Urška Janežič\nProstori: Modra predavalnica
LOCATION:Modra predavalnica
ORGANIZER:Urška Janežič
X-WR-TIMEZONE:Europe/Ljubljana
END:VEVENT
BEGIN:VEVENT
SUMMARY:Obligacijsko pravo-vaje
DTSTART;TZID=Europe/Ljubljana:20260316T180000
DTEND;TZID=Europe/Ljubljana:20260316T200000
DTSTAMP:20260419T150644Z
UID:pf-AFLABS-URNIK:rezervacija:1603
ATTENDEE:3. letnik (EM)
CATEGORIES:Reservation
COLOR:royalblue
DESCRIPTION:Predmeti: Obligacijsko pravo (OBL)\nLetniki: 3. letnik (EM)\nI
 zvajalci: Urška Janežič\nProstori: Modra predavalnica
LOCATION:Modra predavalnica
ORGANIZER:Urška Janežič
X-WR-TIMEZONE:Europe/Ljubljana
END:VEVENT
BEGIN:VEVENT
SUMMARY:Obligacijsko pravo-vaje
DTSTART;TZID=Europe/Ljubljana:20260323T180000
DTEND;TZID=Europe/Ljubljana:20260323T200000
DTSTAMP:20260419T150644Z
UID:pf-AFLABS-URNIK:rezervacija:1604
ATTENDEE:3. letnik (EM)
CATEGORIES:Reservation
COLOR:royalblue
DESCRIPTION:Predmeti: Obligacijsko pravo (OBL)\nLetniki: 3. letnik (EM)\nI
 zvajalci: Urška Janežič\nProstori: Modra predavalnica
LOCATION:Modra predavalnica
ORGANIZER:Urška Janežič
X-WR-TIMEZONE:Europe/Ljubljana
END:VEVENT
BEGIN:VEVENT
SUMMARY:Obligacijsko pravo-vaje
DTSTART;TZID=Europe/Ljubljana:20260330T180000
DTEND;TZID=Europe/Ljubljana:20260330T200000
DTSTAMP:20260419T150644Z
UID:pf-AFLABS-URNIK:rezervacija:1605
ATTENDEE:3. letnik (EM)
CATEGORIES:Reservation
COLOR:royalblue
DESCRIPTION:Predmeti: Obligacijsko pravo (OBL)\nLetniki: 3. letnik (EM)\nI
 zvajalci: Urška Janežič\nProstori: Modra predavalnica
LOCATION:Modra predavalnica
ORGANIZER:Urška Janežič
X-WR-TIMEZONE:Europe/Ljubljana
END:VEVENT
BEGIN:VEVENT
SUMMARY:Obligacijsko pravo-vaje
DTSTART;TZID=Europe/Ljubljana:20260413T180000
DTEND;TZID=Europe/Ljubljana:20260413T200000
DTSTAMP:20260419T150644Z
UID:pf-AFLABS-URNIK:rezervacija:1606
ATTENDEE:3. letnik (EM)
CATEGORIES:Reservation
COLOR:royalblue
DESCRIPTION:Predmeti: Obligacijsko pravo (OBL)\nLetniki: 3. letnik (EM)\nI
 zvajalci: Urška Janežič\nProstori: Modra predavalnica
LOCATION:Modra predavalnica
ORGANIZER:Urška Janežič
X-WR-TIMEZONE:Europe/Ljubljana
END:VEVENT
BEGIN:VEVENT
SUMMARY:Obligacijsko pravo-vaje
DTSTART;TZID=Europe/Ljubljana:20260420T180000
DTEND;TZID=Europe/Ljubljana:20260420T200000
DTSTAMP:20260419T150644Z
UID:pf-AFLABS-URNIK:rezervacija:1607
ATTENDEE:3. letnik (EM)
CATEGORIES:Reservation
COLOR:royalblue
DESCRIPTION:Predmeti: Obligacijsko pravo (OBL)\nLetniki: 3. letnik (EM)\nI
 zvajalci: Urška Janežič\nProstori: Modra predavalnica
LOCATION:Modra predavalnica
ORGANIZER:Urška Janežič
X-WR-TIMEZONE:Europe/Ljubljana
END:VEVENT
BEGIN:VEVENT
SUMMARY:Obligacijsko pravo-vaje
DTSTART;TZID=Europe/Ljubljana:20260504T180000
DTEND;TZID=Europe/Ljubljana:20260504T200000
DTSTAMP:20260419T150644Z
UID:pf-AFLABS-URNIK:rezervacija:1608
ATTENDEE:3. letnik (EM)
CATEGORIES:Reservation
COLOR:royalblue
DESCRIPTION:Predmeti: Obligacijsko pravo (OBL)\nLetniki: 3. letnik (EM)\nI
 zvajalci: Urška Janežič\nProstori: Modra predavalnica
LOCATION:Modra predavalnica
ORGANIZER:Urška Janežič
X-WR-TIMEZONE:Europe/Ljubljana
END:VEVENT
BEGIN:VEVENT
SUMMARY:Obligacijsko pravo-vaje
DTSTART;TZID=Europe/Ljubljana:20260511T180000
DTEND;TZID=Europe/Ljubljana:20260511T200000
DTSTAMP:20260419T150644Z
UID:pf-AFLABS-URNIK:rezervacija:1609
ATTENDEE:3. letnik (EM)
CATEGORIES:Reservation
COLOR:royalblue
DESCRIPTION:Predmeti: Obligacijsko pravo (OBL)\nLetniki: 3. letnik (EM)\nI
 zvajalci: Urška Janežič\nProstori: Modra predavalnica
LOCATION:Modra predavalnica
ORGANIZER:Urška Janežič
X-WR-TIMEZONE:Europe/Ljubljana
END:VEVENT
BEGIN:VEVENT
SUMMARY:Obligacijsko pravo-vaje
DTSTART;TZID=Europe/Ljubljana:20260518T180000
DTEND;TZID=Europe/Ljubljana:20260518T200000
DTSTAMP:20260419T150644Z
UID:pf-AFLABS-URNIK:rezervacija:1610
ATTENDEE:3. letnik (EM)
CATEGORIES:Reservation
COLOR:royalblue
DESCRIPTION:Predmeti: Obligacijsko pravo (OBL)\nLetniki: 3. letnik (EM)\nI
 zvajalci: Urška Janežič\nProstori: Modra predavalnica
LOCATION:Modra predavalnica
ORGANIZER:Urška Janežič
X-WR-TIMEZONE:Europe/Ljubljana
END:VEVENT
END:VCALENDAR
