BEGIN:VCALENDAR
VERSION:2.0
PRODID:-//AFLabs urnik izvoz - pf//aflabs.si//SI
DTSTAMP:20260419T135104Z
NAME:UL PF Urnik
REFRESH-INTERVAL:PT1H
SOURCE:https://afurnik-pf.dev.aflabs.org/classroom/10/?export=1
URL:https://afurnik-pf.dev.aflabs.org/classroom/10/?export=1
X-PUBLISHED-TTL:PT1H
X-WR-CALNAME:UL PF Urnik
X-WR-TIMEZONE:Europe/Ljubljana
BEGIN:VTIMEZONE
TZID:Europe/Ljubljana
BEGIN:DAYLIGHT
DTSTART:20260329T020000
RDATE:20260329T020000
RDATE:20270328T020000
TZNAME:CEST
TZOFFSETFROM:+0100
TZOFFSETTO:+0200
END:DAYLIGHT
BEGIN:STANDARD
DTSTART:20261025T030000
RDATE:20261025T030000
RDATE:20271031T030000
TZNAME:CET
TZOFFSETFROM:+0200
TZOFFSETTO:+0100
END:STANDARD
END:VTIMEZONE
BEGIN:VEVENT
SUMMARY:Terminološka skupina
DTSTART;TZID=Europe/Ljubljana:20260209T120000
DTEND;TZID=Europe/Ljubljana:20260209T130000
DTSTAMP:20260419T135104Z
UID:pf-AFLABS-URNIK:rezervacija:35
CATEGORIES:Reservation
COLOR:royalblue
DESCRIPTION:Predmeti: \nLetniki: \nIzvajalci: Nevenka Mehle\, Marjetka Saj
 ovic\nProstori: Senatna soba
LOCATION:Senatna soba
ORGANIZER:Nevenka Mehle, Marjetka Sajovic
X-WR-TIMEZONE:Europe/Ljubljana
END:VEVENT
BEGIN:VEVENT
SUMMARY:Terminološka skupina
DTSTART;TZID=Europe/Ljubljana:20260216T120000
DTEND;TZID=Europe/Ljubljana:20260216T130000
DTSTAMP:20260419T135104Z
UID:pf-AFLABS-URNIK:rezervacija:36
CATEGORIES:Reservation
COLOR:royalblue
DESCRIPTION:Predmeti: \nLetniki: \nIzvajalci: Nevenka Mehle\, Marjetka Saj
 ovic\nProstori: Senatna soba
LOCATION:Senatna soba
ORGANIZER:Nevenka Mehle, Marjetka Sajovic
X-WR-TIMEZONE:Europe/Ljubljana
END:VEVENT
BEGIN:VEVENT
SUMMARY:Terminološka skupina
DTSTART;TZID=Europe/Ljubljana:20260223T120000
DTEND;TZID=Europe/Ljubljana:20260223T130000
DTSTAMP:20260419T135104Z
UID:pf-AFLABS-URNIK:rezervacija:37
CATEGORIES:Reservation
COLOR:royalblue
DESCRIPTION:Predmeti: \nLetniki: \nIzvajalci: Nevenka Mehle\, Marjetka Saj
 ovic\nProstori: Senatna soba
LOCATION:Senatna soba
ORGANIZER:Nevenka Mehle, Marjetka Sajovic
X-WR-TIMEZONE:Europe/Ljubljana
END:VEVENT
BEGIN:VEVENT
SUMMARY:Terminološka skupina
DTSTART;TZID=Europe/Ljubljana:20260302T120000
DTEND;TZID=Europe/Ljubljana:20260302T130000
DTSTAMP:20260419T135104Z
UID:pf-AFLABS-URNIK:rezervacija:38
CATEGORIES:Reservation
COLOR:royalblue
DESCRIPTION:Predmeti: \nLetniki: \nIzvajalci: Nevenka Mehle\, Marjetka Saj
 ovic\nProstori: Senatna soba
LOCATION:Senatna soba
ORGANIZER:Nevenka Mehle, Marjetka Sajovic
X-WR-TIMEZONE:Europe/Ljubljana
END:VEVENT
BEGIN:VEVENT
SUMMARY:Terminološka skupina
DTSTART;TZID=Europe/Ljubljana:20260309T120000
DTEND;TZID=Europe/Ljubljana:20260309T130000
DTSTAMP:20260419T135104Z
UID:pf-AFLABS-URNIK:rezervacija:39
CATEGORIES:Reservation
COLOR:royalblue
DESCRIPTION:Predmeti: \nLetniki: \nIzvajalci: Nevenka Mehle\, Marjetka Saj
 ovic\nProstori: Senatna soba
LOCATION:Senatna soba
ORGANIZER:Nevenka Mehle, Marjetka Sajovic
X-WR-TIMEZONE:Europe/Ljubljana
END:VEVENT
BEGIN:VEVENT
SUMMARY:Terminološka skupina
DTSTART;TZID=Europe/Ljubljana:20260316T120000
DTEND;TZID=Europe/Ljubljana:20260316T130000
DTSTAMP:20260419T135104Z
UID:pf-AFLABS-URNIK:rezervacija:40
CATEGORIES:Reservation
COLOR:royalblue
DESCRIPTION:Predmeti: \nLetniki: \nIzvajalci: Nevenka Mehle\, Marjetka Saj
 ovic\nProstori: Senatna soba
LOCATION:Senatna soba
ORGANIZER:Nevenka Mehle, Marjetka Sajovic
X-WR-TIMEZONE:Europe/Ljubljana
END:VEVENT
BEGIN:VEVENT
SUMMARY:Terminološka skupina
DTSTART;TZID=Europe/Ljubljana:20260323T120000
DTEND;TZID=Europe/Ljubljana:20260323T130000
DTSTAMP:20260419T135104Z
UID:pf-AFLABS-URNIK:rezervacija:41
CATEGORIES:Reservation
COLOR:royalblue
DESCRIPTION:Predmeti: \nLetniki: \nIzvajalci: Nevenka Mehle\, Marjetka Saj
 ovic\nProstori: Senatna soba
LOCATION:Senatna soba
ORGANIZER:Nevenka Mehle, Marjetka Sajovic
X-WR-TIMEZONE:Europe/Ljubljana
END:VEVENT
BEGIN:VEVENT
SUMMARY:Terminološka skupina
DTSTART;TZID=Europe/Ljubljana:20260330T120000
DTEND;TZID=Europe/Ljubljana:20260330T130000
DTSTAMP:20260419T135104Z
UID:pf-AFLABS-URNIK:rezervacija:42
CATEGORIES:Reservation
COLOR:royalblue
DESCRIPTION:Predmeti: \nLetniki: \nIzvajalci: Nevenka Mehle\, Marjetka Saj
 ovic\nProstori: Senatna soba
LOCATION:Senatna soba
ORGANIZER:Nevenka Mehle, Marjetka Sajovic
X-WR-TIMEZONE:Europe/Ljubljana
END:VEVENT
BEGIN:VEVENT
SUMMARY:Terminološka skupina
DTSTART;TZID=Europe/Ljubljana:20260406T120000
DTEND;TZID=Europe/Ljubljana:20260406T130000
DTSTAMP:20260419T135104Z
UID:pf-AFLABS-URNIK:rezervacija:43
CATEGORIES:Reservation
COLOR:royalblue
DESCRIPTION:Predmeti: \nLetniki: \nIzvajalci: Nevenka Mehle\, Marjetka Saj
 ovic\nProstori: Senatna soba
LOCATION:Senatna soba
ORGANIZER:Nevenka Mehle, Marjetka Sajovic
X-WR-TIMEZONE:Europe/Ljubljana
END:VEVENT
BEGIN:VEVENT
SUMMARY:Terminološka skupina
DTSTART;TZID=Europe/Ljubljana:20260413T120000
DTEND;TZID=Europe/Ljubljana:20260413T130000
DTSTAMP:20260419T135104Z
UID:pf-AFLABS-URNIK:rezervacija:44
CATEGORIES:Reservation
COLOR:royalblue
DESCRIPTION:Predmeti: \nLetniki: \nIzvajalci: Nevenka Mehle\, Marjetka Saj
 ovic\nProstori: Senatna soba
LOCATION:Senatna soba
ORGANIZER:Nevenka Mehle, Marjetka Sajovic
X-WR-TIMEZONE:Europe/Ljubljana
END:VEVENT
BEGIN:VEVENT
SUMMARY:Terminološka skupina
DTSTART;TZID=Europe/Ljubljana:20260420T120000
DTEND;TZID=Europe/Ljubljana:20260420T130000
DTSTAMP:20260419T135104Z
UID:pf-AFLABS-URNIK:rezervacija:45
CATEGORIES:Reservation
COLOR:royalblue
DESCRIPTION:Predmeti: \nLetniki: \nIzvajalci: Nevenka Mehle\, Marjetka Saj
 ovic\nProstori: Senatna soba
LOCATION:Senatna soba
ORGANIZER:Nevenka Mehle, Marjetka Sajovic
X-WR-TIMEZONE:Europe/Ljubljana
END:VEVENT
BEGIN:VEVENT
SUMMARY:Terminološka skupina
DTSTART;TZID=Europe/Ljubljana:20260427T120000
DTEND;TZID=Europe/Ljubljana:20260427T130000
DTSTAMP:20260419T135104Z
UID:pf-AFLABS-URNIK:rezervacija:46
CATEGORIES:Reservation
COLOR:royalblue
DESCRIPTION:Predmeti: \nLetniki: \nIzvajalci: Nevenka Mehle\, Marjetka Saj
 ovic\nProstori: Senatna soba
LOCATION:Senatna soba
ORGANIZER:Nevenka Mehle, Marjetka Sajovic
X-WR-TIMEZONE:Europe/Ljubljana
END:VEVENT
BEGIN:VEVENT
SUMMARY:Terminološka skupina
DTSTART;TZID=Europe/Ljubljana:20260504T120000
DTEND;TZID=Europe/Ljubljana:20260504T130000
DTSTAMP:20260419T135104Z
UID:pf-AFLABS-URNIK:rezervacija:47
CATEGORIES:Reservation
COLOR:royalblue
DESCRIPTION:Predmeti: \nLetniki: \nIzvajalci: Nevenka Mehle\, Marjetka Saj
 ovic\nProstori: Senatna soba
LOCATION:Senatna soba
ORGANIZER:Nevenka Mehle, Marjetka Sajovic
X-WR-TIMEZONE:Europe/Ljubljana
END:VEVENT
BEGIN:VEVENT
SUMMARY:Terminološka skupina
DTSTART;TZID=Europe/Ljubljana:20260511T120000
DTEND;TZID=Europe/Ljubljana:20260511T130000
DTSTAMP:20260419T135104Z
UID:pf-AFLABS-URNIK:rezervacija:48
CATEGORIES:Reservation
COLOR:royalblue
DESCRIPTION:Predmeti: \nLetniki: \nIzvajalci: Nevenka Mehle\, Marjetka Saj
 ovic\nProstori: Senatna soba
LOCATION:Senatna soba
ORGANIZER:Nevenka Mehle, Marjetka Sajovic
X-WR-TIMEZONE:Europe/Ljubljana
END:VEVENT
BEGIN:VEVENT
SUMMARY:Terminološka skupina
DTSTART;TZID=Europe/Ljubljana:20260518T120000
DTEND;TZID=Europe/Ljubljana:20260518T130000
DTSTAMP:20260419T135104Z
UID:pf-AFLABS-URNIK:rezervacija:49
CATEGORIES:Reservation
COLOR:royalblue
DESCRIPTION:Predmeti: \nLetniki: \nIzvajalci: Nevenka Mehle\, Marjetka Saj
 ovic\nProstori: Senatna soba
LOCATION:Senatna soba
ORGANIZER:Nevenka Mehle, Marjetka Sajovic
X-WR-TIMEZONE:Europe/Ljubljana
END:VEVENT
BEGIN:VEVENT
SUMMARY:Programski svet VO
DTSTART;TZID=Europe/Ljubljana:20260210T090000
DTEND;TZID=Europe/Ljubljana:20260210T110000
DTSTAMP:20260419T135104Z
UID:pf-AFLABS-URNIK:rezervacija:57
CATEGORIES:Reservation
COLOR:royalblue
DESCRIPTION:Predmeti: \nLetniki: \nIzvajalci: Nevenka Mehle\nProstori: Sen
 atna soba
LOCATION:Senatna soba
ORGANIZER:Nevenka Mehle
X-WR-TIMEZONE:Europe/Ljubljana
END:VEVENT
BEGIN:VEVENT
SUMMARY:5. seja KŠZ
DTSTART;TZID=Europe/Ljubljana:20260219T120000
DTEND;TZID=Europe/Ljubljana:20260219T140000
DTSTAMP:20260419T135104Z
UID:pf-AFLABS-URNIK:rezervacija:127
CATEGORIES:Reservation
COLOR:royalblue
DESCRIPTION:Predmeti: \nLetniki: \nIzvajalci: Gregor Dugar\, Katja Filipč
 ič\, Marjan Kos\, Maša Kovič Dine\, Maja Marentič\, Aleš Novak\, Katj
 a Škrubej\, Grega Strban\, Saša Zagorc\, Katarina Zajc\, Bruna Žuber\nP
 rostori: Senatna soba
LOCATION:Senatna soba
ORGANIZER:Gregor Dugar, Katja Filipčič, Marjan Kos, Maša Kovič Dine, M
 aja Marentič, Aleš Novak, Katja Škrubej, Grega Strban, Saša Zagorc, Ka
 tarina Zajc, Bruna Žuber
X-WR-TIMEZONE:Europe/Ljubljana
END:VEVENT
BEGIN:VEVENT
SUMMARY:6. seja KŠZ
DTSTART;TZID=Europe/Ljubljana:20260312T120000
DTEND;TZID=Europe/Ljubljana:20260312T140000
DTSTAMP:20260419T135104Z
UID:pf-AFLABS-URNIK:rezervacija:128
CATEGORIES:Reservation
COLOR:royalblue
DESCRIPTION:Predmeti: \nLetniki: \nIzvajalci: Gregor Dugar\, Katja Filipč
 ič\, Marjan Kos\, Maša Kovič Dine\, Maja Marentič\, Aleš Novak\, Katj
 a Škrubej\, Grega Strban\, Saša Zagorc\, Katarina Zajc\, Bruna Žuber\nP
 rostori: Senatna soba
LOCATION:Senatna soba
ORGANIZER:Gregor Dugar, Katja Filipčič, Marjan Kos, Maša Kovič Dine, M
 aja Marentič, Aleš Novak, Katja Škrubej, Grega Strban, Saša Zagorc, Ka
 tarina Zajc, Bruna Žuber
X-WR-TIMEZONE:Europe/Ljubljana
END:VEVENT
BEGIN:VEVENT
SUMMARY:7. seja KŠZ
DTSTART;TZID=Europe/Ljubljana:20260409T120000
DTEND;TZID=Europe/Ljubljana:20260409T140000
DTSTAMP:20260419T135104Z
UID:pf-AFLABS-URNIK:rezervacija:129
CATEGORIES:Reservation
COLOR:royalblue
DESCRIPTION:Predmeti: \nLetniki: \nIzvajalci: Gregor Dugar\, Katja Filipč
 ič\, Marjan Kos\, Maša Kovič Dine\, Maja Marentič\, Aleš Novak\, Katj
 a Škrubej\, Grega Strban\, Saša Zagorc\, Katarina Zajc\, Bruna Žuber\nP
 rostori: Senatna soba
LOCATION:Senatna soba
ORGANIZER:Gregor Dugar, Katja Filipčič, Marjan Kos, Maša Kovič Dine, M
 aja Marentič, Aleš Novak, Katja Škrubej, Grega Strban, Saša Zagorc, Ka
 tarina Zajc, Bruna Žuber
X-WR-TIMEZONE:Europe/Ljubljana
END:VEVENT
BEGIN:VEVENT
SUMMARY:8. seja KŠZ
DTSTART;TZID=Europe/Ljubljana:20260514T120000
DTEND;TZID=Europe/Ljubljana:20260514T140000
DTSTAMP:20260419T135104Z
UID:pf-AFLABS-URNIK:rezervacija:130
CATEGORIES:Reservation
COLOR:royalblue
DESCRIPTION:Predmeti: \nLetniki: \nIzvajalci: Gregor Dugar\, Katja Filipč
 ič\, Marjan Kos\, Maša Kovič Dine\, Maja Marentič\, Aleš Novak\, Katj
 a Škrubej\, Grega Strban\, Saša Zagorc\, Katarina Zajc\, Bruna Žuber\nP
 rostori: Senatna soba
LOCATION:Senatna soba
ORGANIZER:Gregor Dugar, Katja Filipčič, Marjan Kos, Maša Kovič Dine, M
 aja Marentič, Aleš Novak, Katja Škrubej, Grega Strban, Saša Zagorc, Ka
 tarina Zajc, Bruna Žuber
X-WR-TIMEZONE:Europe/Ljubljana
END:VEVENT
BEGIN:VEVENT
SUMMARY:UO PF
DTSTART;TZID=Europe/Ljubljana:20260226T120000
DTEND;TZID=Europe/Ljubljana:20260226T140000
DTSTAMP:20260419T135104Z
UID:pf-AFLABS-URNIK:rezervacija:356
CATEGORIES:Reservation
COLOR:royalblue
DESCRIPTION:Predmeti: \nLetniki: \nIzvajalci: Miha Hafner\, Irena Kordež\
 , Maša Kovič Dine\, Nevenka Mehle\, Neža Pogorelčnik Vogrinc\, Katja 
 Štemberger Brizani\, Viktorija Žnidaršič Skubic\nProstori: Senatna sob
 a
LOCATION:Senatna soba
ORGANIZER:Miha Hafner, Irena Kordež, Maša Kovič Dine, Nevenka Mehle, Ne
 ža Pogorelčnik Vogrinc, Katja Štemberger Brizani, Viktorija Žnidarši
 č Skubic
X-WR-TIMEZONE:Europe/Ljubljana
END:VEVENT
BEGIN:VEVENT
SUMMARY:UO PF
DTSTART;TZID=Europe/Ljubljana:20260326T120000
DTEND;TZID=Europe/Ljubljana:20260326T140000
DTSTAMP:20260419T135104Z
UID:pf-AFLABS-URNIK:rezervacija:357
CATEGORIES:Reservation
COLOR:royalblue
DESCRIPTION:Predmeti: \nLetniki: \nIzvajalci: Miha Hafner\, Irena Kordež\
 , Maša Kovič Dine\, Nevenka Mehle\, Neža Pogorelčnik Vogrinc\, Katja 
 Štemberger Brizani\, Viktorija Žnidaršič Skubic\nProstori: Senatna sob
 a
LOCATION:Senatna soba
ORGANIZER:Miha Hafner, Irena Kordež, Maša Kovič Dine, Nevenka Mehle, Ne
 ža Pogorelčnik Vogrinc, Katja Štemberger Brizani, Viktorija Žnidarši
 č Skubic
X-WR-TIMEZONE:Europe/Ljubljana
END:VEVENT
BEGIN:VEVENT
SUMMARY:UO PF
DTSTART;TZID=Europe/Ljubljana:20260430T120000
DTEND;TZID=Europe/Ljubljana:20260430T140000
DTSTAMP:20260419T135104Z
UID:pf-AFLABS-URNIK:rezervacija:358
CATEGORIES:Reservation
COLOR:royalblue
DESCRIPTION:Predmeti: \nLetniki: \nIzvajalci: Miha Hafner\, Irena Kordež\
 , Maša Kovič Dine\, Nevenka Mehle\, Neža Pogorelčnik Vogrinc\, Katja 
 Štemberger Brizani\, Viktorija Žnidaršič Skubic\nProstori: Senatna sob
 a
LOCATION:Senatna soba
ORGANIZER:Miha Hafner, Irena Kordež, Maša Kovič Dine, Nevenka Mehle, Ne
 ža Pogorelčnik Vogrinc, Katja Štemberger Brizani, Viktorija Žnidarši
 č Skubic
X-WR-TIMEZONE:Europe/Ljubljana
END:VEVENT
BEGIN:VEVENT
SUMMARY:SENAT PF
DTSTART;TZID=Europe/Ljubljana:20260226T120000
DTEND;TZID=Europe/Ljubljana:20260226T140000
DTSTAMP:20260419T135104Z
UID:pf-AFLABS-URNIK:rezervacija:603
CATEGORIES:Reservation
COLOR:royalblue
DESCRIPTION:Predmeti: \nLetniki: \nIzvajalci: Nevenka Mehle\nProstori: Sen
 atna soba
LOCATION:Senatna soba
ORGANIZER:Nevenka Mehle
X-WR-TIMEZONE:Europe/Ljubljana
END:VEVENT
BEGIN:VEVENT
SUMMARY:SENAT PF
DTSTART;TZID=Europe/Ljubljana:20260319T120000
DTEND;TZID=Europe/Ljubljana:20260319T140000
DTSTAMP:20260419T135104Z
UID:pf-AFLABS-URNIK:rezervacija:604
CATEGORIES:Reservation
COLOR:royalblue
DESCRIPTION:Predmeti: \nLetniki: \nIzvajalci: Nevenka Mehle\nProstori: Sen
 atna soba
LOCATION:Senatna soba
ORGANIZER:Nevenka Mehle
X-WR-TIMEZONE:Europe/Ljubljana
END:VEVENT
BEGIN:VEVENT
SUMMARY:SENAT
DTSTART;TZID=Europe/Ljubljana:20260416T120000
DTEND;TZID=Europe/Ljubljana:20260416T140000
DTSTAMP:20260419T135104Z
UID:pf-AFLABS-URNIK:rezervacija:605
CATEGORIES:Reservation
COLOR:royalblue
DESCRIPTION:Predmeti: \nLetniki: \nIzvajalci: Nevenka Mehle\nProstori: Sen
 atna soba
LOCATION:Senatna soba
ORGANIZER:Nevenka Mehle
X-WR-TIMEZONE:Europe/Ljubljana
END:VEVENT
BEGIN:VEVENT
SUMMARY:i.con cee chapter letna konferenca
DTSTART;TZID=Europe/Ljubljana:20260515T070000
DTEND;TZID=Europe/Ljubljana:20260515T200000
DTSTAMP:20260419T135104Z
UID:pf-AFLABS-URNIK:rezervacija:832
CATEGORIES:Reservation
COLOR:royalblue
DESCRIPTION:Predmeti: \nLetniki: \nIzvajalci: Samo Bardutzky\, Marjan Kos\
 , Tilen Štajnpihler Božič\nProstori: Senatna soba
LOCATION:Senatna soba
ORGANIZER:Samo Bardutzky, Marjan Kos, Tilen Štajnpihler Božič
X-WR-TIMEZONE:Europe/Ljubljana
END:VEVENT
BEGIN:VEVENT
SUMMARY:i.con cee chapter letna konferenca
DTSTART;TZID=Europe/Ljubljana:20260514T070000
DTEND;TZID=Europe/Ljubljana:20260514T120000
DTSTAMP:20260419T135104Z
UID:pf-AFLABS-URNIK:rezervacija:833
CATEGORIES:Reservation
COLOR:royalblue
DESCRIPTION:Predmeti: \nLetniki: \nIzvajalci: Samo Bardutzky\, Marjan Kos\
 , Tilen Štajnpihler Božič\nProstori: Senatna soba
LOCATION:Senatna soba
ORGANIZER:Samo Bardutzky, Marjan Kos, Tilen Štajnpihler Božič
X-WR-TIMEZONE:Europe/Ljubljana
END:VEVENT
BEGIN:VEVENT
SUMMARY:i.con cee chapter letna konferenca
DTSTART;TZID=Europe/Ljubljana:20260514T140000
DTEND;TZID=Europe/Ljubljana:20260514T200000
DTSTAMP:20260419T135104Z
UID:pf-AFLABS-URNIK:rezervacija:834
CATEGORIES:Reservation
COLOR:royalblue
DESCRIPTION:Predmeti: \nLetniki: \nIzvajalci: Samo Bardutzky\, Marjan Kos\
 , Tilen Štajnpihler Božič\nProstori: Senatna soba
LOCATION:Senatna soba
ORGANIZER:Samo Bardutzky, Marjan Kos, Tilen Štajnpihler Božič
X-WR-TIMEZONE:Europe/Ljubljana
END:VEVENT
BEGIN:VEVENT
SUMMARY:The Guild Doctoral School
DTSTART;TZID=Europe/Ljubljana:20260305T090000
DTEND;TZID=Europe/Ljubljana:20260305T170000
DTSTAMP:20260419T135104Z
UID:pf-AFLABS-URNIK:rezervacija:948
CATEGORIES:Reservation
COLOR:royalblue
DESCRIPTION:Predmeti: \nLetniki: \nIzvajalci: Luka Mišič\nProstori: Sena
 tna soba
LOCATION:Senatna soba
ORGANIZER:Luka Mišič
X-WR-TIMEZONE:Europe/Ljubljana
END:VEVENT
BEGIN:VEVENT
SUMMARY:The Guild Doctoral School
DTSTART;TZID=Europe/Ljubljana:20260306T090000
DTEND;TZID=Europe/Ljubljana:20260306T170000
DTSTAMP:20260419T135104Z
UID:pf-AFLABS-URNIK:rezervacija:949
CATEGORIES:Reservation
COLOR:royalblue
DESCRIPTION:Predmeti: \nLetniki: \nIzvajalci: Luka Mišič\nProstori: Sena
 tna soba
LOCATION:Senatna soba
ORGANIZER:Luka Mišič
X-WR-TIMEZONE:Europe/Ljubljana
END:VEVENT
BEGIN:VEVENT
SUMMARY:Okrogla miza o obvezni pristojnosti Meddržavnega sodišča
DTSTART;TZID=Europe/Ljubljana:20260226T090000
DTEND;TZID=Europe/Ljubljana:20260226T120000
DTSTAMP:20260419T135104Z
UID:pf-AFLABS-URNIK:rezervacija:1432
CATEGORIES:Reservation
COLOR:royalblue
DESCRIPTION:Predmeti: \nLetniki: \nIzvajalci: Maša Kovič Dine\nProstori:
  Senatna soba
LOCATION:Senatna soba
ORGANIZER:Maša Kovič Dine
X-WR-TIMEZONE:Europe/Ljubljana
END:VEVENT
BEGIN:VEVENT
SUMMARY:Bruna Žuber - projekt
DTSTART;TZID=Europe/Ljubljana:20260211T120000
DTEND;TZID=Europe/Ljubljana:20260211T150000
DTSTAMP:20260419T135104Z
UID:pf-AFLABS-URNIK:rezervacija:1508
CATEGORIES:Reservation
COLOR:royalblue
DESCRIPTION:Predmeti: \nLetniki: \nIzvajalci: Nevenka Mehle\, Bruna Žuber
 \nProstori: Senatna soba
LOCATION:Senatna soba
ORGANIZER:Nevenka Mehle, Bruna Žuber
X-WR-TIMEZONE:Europe/Ljubljana
END:VEVENT
BEGIN:VEVENT
SUMMARY:Sestanek delovne skupine
DTSTART;TZID=Europe/Ljubljana:20260213T110000
DTEND;TZID=Europe/Ljubljana:20260213T130000
DTSTAMP:20260419T135104Z
UID:pf-AFLABS-URNIK:rezervacija:1575
CATEGORIES:Reservation
COLOR:royalblue
DESCRIPTION:Predmeti: \nLetniki: \nIzvajalci: Filip Dougan\nProstori: Sena
 tna soba
LOCATION:Senatna soba
ORGANIZER:Filip Dougan
X-WR-TIMEZONE:Europe/Ljubljana
END:VEVENT
BEGIN:VEVENT
SUMMARY:zagovor doktorskega dela Dimitrijević
DTSTART;TZID=Europe/Ljubljana:20260205T160000
DTEND;TZID=Europe/Ljubljana:20260205T180000
DTSTAMP:20260419T135104Z
UID:pf-AFLABS-URNIK:rezervacija:1614
CATEGORIES:Reservation
COLOR:royalblue
DESCRIPTION:Predmeti: \nLetniki: \nIzvajalci: Damjan Možina\, Urša Zakra
 jšek\nProstori: Senatna soba
LOCATION:Senatna soba
ORGANIZER:Damjan Možina, Urša Zakrajšek
X-WR-TIMEZONE:Europe/Ljubljana
END:VEVENT
END:VCALENDAR
