BEGIN:VCALENDAR
VERSION:2.0
PRODID:-//AFLabs urnik izvoz - pf//aflabs.si//SI
DTSTAMP:20260419T135105Z
NAME:UL PF Urnik
REFRESH-INTERVAL:PT1H
SOURCE:https://afurnik-pf.dev.aflabs.org/classroom/1/?export=1
URL:https://afurnik-pf.dev.aflabs.org/classroom/1/?export=1
X-PUBLISHED-TTL:PT1H
X-WR-CALNAME:UL PF Urnik
X-WR-TIMEZONE:Europe/Ljubljana
BEGIN:VTIMEZONE
TZID:Europe/Ljubljana
BEGIN:DAYLIGHT
DTSTART:20260329T020000
RDATE:20260329T020000
RDATE:20270328T020000
TZNAME:CEST
TZOFFSETFROM:+0100
TZOFFSETTO:+0200
END:DAYLIGHT
BEGIN:STANDARD
DTSTART:20261025T030000
RDATE:20261025T030000
RDATE:20271031T030000
TZNAME:CET
TZOFFSETFROM:+0200
TZOFFSETTO:+0100
END:STANDARD
END:VTIMEZONE
BEGIN:VEVENT
SUMMARY:Moot ICC
DTSTART;TZID=Europe/Ljubljana:20260209T180000
DTEND;TZID=Europe/Ljubljana:20260209T200000
DTSTAMP:20260419T135105Z
UID:pf-AFLABS-URNIK:rezervacija:418
CATEGORIES:Reservation
COLOR:royalblue
DESCRIPTION:Predmeti: \nLetniki: \nIzvajalci: Neža Pogorelčnik Vogrinc\n
 Prostori: Civilistični seminar
LOCATION:Civilistični seminar
ORGANIZER:Neža Pogorelčnik Vogrinc
X-WR-TIMEZONE:Europe/Ljubljana
END:VEVENT
BEGIN:VEVENT
SUMMARY:Tečaj francoščine
DTSTART;TZID=Europe/Ljubljana:20260209T130000
DTEND;TZID=Europe/Ljubljana:20260209T143000
DTSTAMP:20260419T135105Z
UID:pf-AFLABS-URNIK:rezervacija:860
CATEGORIES:Reservation
COLOR:royalblue
DESCRIPTION:Predmeti: \nLetniki: \nIzvajalci: Filip Dougan\nProstori: Civi
 listični seminar
LOCATION:Civilistični seminar
ORGANIZER:Filip Dougan
X-WR-TIMEZONE:Europe/Ljubljana
END:VEVENT
BEGIN:VEVENT
SUMMARY:Tečaj francoščine
DTSTART;TZID=Europe/Ljubljana:20260216T130000
DTEND;TZID=Europe/Ljubljana:20260216T143000
DTSTAMP:20260419T135105Z
UID:pf-AFLABS-URNIK:rezervacija:861
CATEGORIES:Reservation
COLOR:royalblue
DESCRIPTION:Predmeti: \nLetniki: \nIzvajalci: Filip Dougan\nProstori: Civi
 listični seminar
LOCATION:Civilistični seminar
ORGANIZER:Filip Dougan
X-WR-TIMEZONE:Europe/Ljubljana
END:VEVENT
BEGIN:VEVENT
SUMMARY:Tečaj francoščine
DTSTART;TZID=Europe/Ljubljana:20260223T130000
DTEND;TZID=Europe/Ljubljana:20260223T143000
DTSTAMP:20260419T135105Z
UID:pf-AFLABS-URNIK:rezervacija:862
CATEGORIES:Reservation
COLOR:royalblue
DESCRIPTION:Predmeti: \nLetniki: \nIzvajalci: Filip Dougan\nProstori: Civi
 listični seminar
LOCATION:Civilistični seminar
ORGANIZER:Filip Dougan
X-WR-TIMEZONE:Europe/Ljubljana
END:VEVENT
BEGIN:VEVENT
SUMMARY:Vis Moot Court
DTSTART;TZID=Europe/Ljubljana:20260205T180000
DTEND;TZID=Europe/Ljubljana:20260205T200000
DTSTAMP:20260419T135105Z
UID:pf-AFLABS-URNIK:rezervacija:1276
CATEGORIES:Reservation
COLOR:royalblue
DESCRIPTION:Predmeti: \nLetniki: \nIzvajalci: Jernej Renko\nProstori: Civi
 listični seminar
LOCATION:Civilistični seminar
ORGANIZER:Jernej Renko
X-WR-TIMEZONE:Europe/Ljubljana
END:VEVENT
BEGIN:VEVENT
SUMMARY:Vis Moot Court
DTSTART;TZID=Europe/Ljubljana:20260212T180000
DTEND;TZID=Europe/Ljubljana:20260212T200000
DTSTAMP:20260419T135105Z
UID:pf-AFLABS-URNIK:rezervacija:1277
CATEGORIES:Reservation
COLOR:royalblue
DESCRIPTION:Predmeti: \nLetniki: \nIzvajalci: Jernej Renko\nProstori: Civi
 listični seminar
LOCATION:Civilistični seminar
ORGANIZER:Jernej Renko
X-WR-TIMEZONE:Europe/Ljubljana
END:VEVENT
BEGIN:VEVENT
SUMMARY:Vis Moot Court
DTSTART;TZID=Europe/Ljubljana:20260219T180000
DTEND;TZID=Europe/Ljubljana:20260219T200000
DTSTAMP:20260419T135105Z
UID:pf-AFLABS-URNIK:rezervacija:1278
CATEGORIES:Reservation
COLOR:royalblue
DESCRIPTION:Predmeti: \nLetniki: \nIzvajalci: Jernej Renko\nProstori: Civi
 listični seminar
LOCATION:Civilistični seminar
ORGANIZER:Jernej Renko
X-WR-TIMEZONE:Europe/Ljubljana
END:VEVENT
BEGIN:VEVENT
SUMMARY:Vis Moot Court
DTSTART;TZID=Europe/Ljubljana:20260226T180000
DTEND;TZID=Europe/Ljubljana:20260226T200000
DTSTAMP:20260419T135105Z
UID:pf-AFLABS-URNIK:rezervacija:1279
CATEGORIES:Reservation
COLOR:royalblue
DESCRIPTION:Predmeti: \nLetniki: \nIzvajalci: Jernej Renko\nProstori: Civi
 listični seminar
LOCATION:Civilistični seminar
ORGANIZER:Jernej Renko
X-WR-TIMEZONE:Europe/Ljubljana
END:VEVENT
BEGIN:VEVENT
SUMMARY:Vis Moot Court
DTSTART;TZID=Europe/Ljubljana:20260305T180000
DTEND;TZID=Europe/Ljubljana:20260305T200000
DTSTAMP:20260419T135105Z
UID:pf-AFLABS-URNIK:rezervacija:1280
CATEGORIES:Reservation
COLOR:royalblue
DESCRIPTION:Predmeti: \nLetniki: \nIzvajalci: Jernej Renko\nProstori: Civi
 listični seminar
LOCATION:Civilistični seminar
ORGANIZER:Jernej Renko
X-WR-TIMEZONE:Europe/Ljubljana
END:VEVENT
BEGIN:VEVENT
SUMMARY:Vis Moot Court
DTSTART;TZID=Europe/Ljubljana:20260312T180000
DTEND;TZID=Europe/Ljubljana:20260312T200000
DTSTAMP:20260419T135105Z
UID:pf-AFLABS-URNIK:rezervacija:1281
CATEGORIES:Reservation
COLOR:royalblue
DESCRIPTION:Predmeti: \nLetniki: \nIzvajalci: Jernej Renko\nProstori: Civi
 listični seminar
LOCATION:Civilistični seminar
ORGANIZER:Jernej Renko
X-WR-TIMEZONE:Europe/Ljubljana
END:VEVENT
BEGIN:VEVENT
SUMMARY:Vis Moot Court
DTSTART;TZID=Europe/Ljubljana:20260319T180000
DTEND;TZID=Europe/Ljubljana:20260319T200000
DTSTAMP:20260419T135105Z
UID:pf-AFLABS-URNIK:rezervacija:1282
CATEGORIES:Reservation
COLOR:royalblue
DESCRIPTION:Predmeti: \nLetniki: \nIzvajalci: Jernej Renko\nProstori: Civi
 listični seminar
LOCATION:Civilistični seminar
ORGANIZER:Jernej Renko
X-WR-TIMEZONE:Europe/Ljubljana
END:VEVENT
BEGIN:VEVENT
SUMMARY:Vis Moot Court
DTSTART;TZID=Europe/Ljubljana:20260326T180000
DTEND;TZID=Europe/Ljubljana:20260326T200000
DTSTAMP:20260419T135105Z
UID:pf-AFLABS-URNIK:rezervacija:1283
CATEGORIES:Reservation
COLOR:royalblue
DESCRIPTION:Predmeti: \nLetniki: \nIzvajalci: Jernej Renko\nProstori: Civi
 listični seminar
LOCATION:Civilistični seminar
ORGANIZER:Jernej Renko
X-WR-TIMEZONE:Europe/Ljubljana
END:VEVENT
BEGIN:VEVENT
SUMMARY:TPT - francoščina
DTSTART;TZID=Europe/Ljubljana:20260204T150000
DTEND;TZID=Europe/Ljubljana:20260204T163000
DTSTAMP:20260419T135105Z
UID:pf-AFLABS-URNIK:rezervacija:1488
ATTENDEE:2. letnik (EM)
ATTENDEE:3. letnik (EM)
CATEGORIES:Reservation
COLOR:royalblue
DESCRIPTION:Predmeti: Tuja pravna terminologija – francoščina (TPT FRA
 )\nLetniki: 4. letnik (B1)\, 2. letnik (EM)\, 3. letnik (EM)\nIzvajalci: J
 erca Kramberger Škerl\nProstori: Civilistični seminar
LOCATION:Civilistični seminar
ORGANIZER:Jerca Kramberger Škerl
X-WR-TIMEZONE:Europe/Ljubljana
END:VEVENT
BEGIN:VEVENT
SUMMARY:TPT - francoščina
DTSTART;TZID=Europe/Ljubljana:20260211T150000
DTEND;TZID=Europe/Ljubljana:20260211T163000
DTSTAMP:20260419T135105Z
UID:pf-AFLABS-URNIK:rezervacija:1489
ATTENDEE:2. letnik (EM)
ATTENDEE:3. letnik (EM)
CATEGORIES:Reservation
COLOR:royalblue
DESCRIPTION:Predmeti: Tuja pravna terminologija – francoščina (TPT FRA
 )\nLetniki: 4. letnik (B1)\, 2. letnik (EM)\, 3. letnik (EM)\nIzvajalci: J
 erca Kramberger Škerl\nProstori: Civilistični seminar
LOCATION:Civilistični seminar
ORGANIZER:Jerca Kramberger Škerl
X-WR-TIMEZONE:Europe/Ljubljana
END:VEVENT
BEGIN:VEVENT
SUMMARY:TPT - francoščina
DTSTART;TZID=Europe/Ljubljana:20260218T150000
DTEND;TZID=Europe/Ljubljana:20260218T163000
DTSTAMP:20260419T135105Z
UID:pf-AFLABS-URNIK:rezervacija:1490
ATTENDEE:2. letnik (EM)
ATTENDEE:3. letnik (EM)
CATEGORIES:Reservation
COLOR:royalblue
DESCRIPTION:Predmeti: Tuja pravna terminologija – francoščina (TPT FRA
 )\nLetniki: 4. letnik (B1)\, 2. letnik (EM)\, 3. letnik (EM)\nIzvajalci: J
 erca Kramberger Škerl\nProstori: Civilistični seminar
LOCATION:Civilistični seminar
ORGANIZER:Jerca Kramberger Škerl
X-WR-TIMEZONE:Europe/Ljubljana
END:VEVENT
BEGIN:VEVENT
SUMMARY:TPT - francoščina
DTSTART;TZID=Europe/Ljubljana:20260225T150000
DTEND;TZID=Europe/Ljubljana:20260225T163000
DTSTAMP:20260419T135105Z
UID:pf-AFLABS-URNIK:rezervacija:1491
ATTENDEE:2. letnik (EM)
ATTENDEE:3. letnik (EM)
CATEGORIES:Reservation
COLOR:royalblue
DESCRIPTION:Predmeti: Tuja pravna terminologija – francoščina (TPT FRA
 )\nLetniki: 4. letnik (B1)\, 2. letnik (EM)\, 3. letnik (EM)\nIzvajalci: J
 erca Kramberger Škerl\nProstori: Civilistični seminar
LOCATION:Civilistični seminar
ORGANIZER:Jerca Kramberger Škerl
X-WR-TIMEZONE:Europe/Ljubljana
END:VEVENT
BEGIN:VEVENT
SUMMARY:TPT - francoščina
DTSTART;TZID=Europe/Ljubljana:20260304T150000
DTEND;TZID=Europe/Ljubljana:20260304T163000
DTSTAMP:20260419T135105Z
UID:pf-AFLABS-URNIK:rezervacija:1492
ATTENDEE:2. letnik (EM)
ATTENDEE:3. letnik (EM)
CATEGORIES:Reservation
COLOR:royalblue
DESCRIPTION:Predmeti: Tuja pravna terminologija – francoščina (TPT FRA
 )\nLetniki: 4. letnik (B1)\, 2. letnik (EM)\, 3. letnik (EM)\nIzvajalci: J
 erca Kramberger Škerl\nProstori: Civilistični seminar
LOCATION:Civilistični seminar
ORGANIZER:Jerca Kramberger Škerl
X-WR-TIMEZONE:Europe/Ljubljana
END:VEVENT
BEGIN:VEVENT
SUMMARY:TPT - francoščina
DTSTART;TZID=Europe/Ljubljana:20260311T150000
DTEND;TZID=Europe/Ljubljana:20260311T163000
DTSTAMP:20260419T135105Z
UID:pf-AFLABS-URNIK:rezervacija:1493
ATTENDEE:2. letnik (EM)
ATTENDEE:3. letnik (EM)
CATEGORIES:Reservation
COLOR:royalblue
DESCRIPTION:Predmeti: Tuja pravna terminologija – francoščina (TPT FRA
 )\nLetniki: 4. letnik (B1)\, 2. letnik (EM)\, 3. letnik (EM)\nIzvajalci: J
 erca Kramberger Škerl\nProstori: Civilistični seminar
LOCATION:Civilistični seminar
ORGANIZER:Jerca Kramberger Škerl
X-WR-TIMEZONE:Europe/Ljubljana
END:VEVENT
BEGIN:VEVENT
SUMMARY:TPT - francoščina
DTSTART;TZID=Europe/Ljubljana:20260318T150000
DTEND;TZID=Europe/Ljubljana:20260318T163000
DTSTAMP:20260419T135105Z
UID:pf-AFLABS-URNIK:rezervacija:1494
ATTENDEE:2. letnik (EM)
ATTENDEE:3. letnik (EM)
CATEGORIES:Reservation
COLOR:royalblue
DESCRIPTION:Predmeti: Tuja pravna terminologija – francoščina (TPT FRA
 )\nLetniki: 4. letnik (B1)\, 2. letnik (EM)\, 3. letnik (EM)\nIzvajalci: J
 erca Kramberger Škerl\nProstori: Civilistični seminar
LOCATION:Civilistični seminar
ORGANIZER:Jerca Kramberger Škerl
X-WR-TIMEZONE:Europe/Ljubljana
END:VEVENT
BEGIN:VEVENT
SUMMARY:TPT - francoščina
DTSTART;TZID=Europe/Ljubljana:20260325T150000
DTEND;TZID=Europe/Ljubljana:20260325T163000
DTSTAMP:20260419T135105Z
UID:pf-AFLABS-URNIK:rezervacija:1495
ATTENDEE:2. letnik (EM)
ATTENDEE:3. letnik (EM)
CATEGORIES:Reservation
COLOR:royalblue
DESCRIPTION:Predmeti: Tuja pravna terminologija – francoščina (TPT FRA
 )\nLetniki: 4. letnik (B1)\, 2. letnik (EM)\, 3. letnik (EM)\nIzvajalci: J
 erca Kramberger Škerl\nProstori: Civilistični seminar
LOCATION:Civilistični seminar
ORGANIZER:Jerca Kramberger Škerl
X-WR-TIMEZONE:Europe/Ljubljana
END:VEVENT
BEGIN:VEVENT
SUMMARY:TPT - francoščina
DTSTART;TZID=Europe/Ljubljana:20260401T150000
DTEND;TZID=Europe/Ljubljana:20260401T163000
DTSTAMP:20260419T135105Z
UID:pf-AFLABS-URNIK:rezervacija:1496
ATTENDEE:2. letnik (EM)
ATTENDEE:3. letnik (EM)
CATEGORIES:Reservation
COLOR:royalblue
DESCRIPTION:Predmeti: Tuja pravna terminologija – francoščina (TPT FRA
 )\nLetniki: 4. letnik (B1)\, 2. letnik (EM)\, 3. letnik (EM)\nIzvajalci: J
 erca Kramberger Škerl\nProstori: Civilistični seminar
LOCATION:Civilistični seminar
ORGANIZER:Jerca Kramberger Škerl
X-WR-TIMEZONE:Europe/Ljubljana
END:VEVENT
BEGIN:VEVENT
SUMMARY:TPT - francoščina
DTSTART;TZID=Europe/Ljubljana:20260408T150000
DTEND;TZID=Europe/Ljubljana:20260408T163000
DTSTAMP:20260419T135105Z
UID:pf-AFLABS-URNIK:rezervacija:1497
ATTENDEE:2. letnik (EM)
ATTENDEE:3. letnik (EM)
CATEGORIES:Reservation
COLOR:royalblue
DESCRIPTION:Predmeti: Tuja pravna terminologija – francoščina (TPT FRA
 )\nLetniki: 4. letnik (B1)\, 2. letnik (EM)\, 3. letnik (EM)\nIzvajalci: J
 erca Kramberger Škerl\nProstori: Civilistični seminar
LOCATION:Civilistični seminar
ORGANIZER:Jerca Kramberger Škerl
X-WR-TIMEZONE:Europe/Ljubljana
END:VEVENT
BEGIN:VEVENT
SUMMARY:TPT - francoščina
DTSTART;TZID=Europe/Ljubljana:20260415T150000
DTEND;TZID=Europe/Ljubljana:20260415T163000
DTSTAMP:20260419T135105Z
UID:pf-AFLABS-URNIK:rezervacija:1498
ATTENDEE:2. letnik (EM)
ATTENDEE:3. letnik (EM)
CATEGORIES:Reservation
COLOR:royalblue
DESCRIPTION:Predmeti: Tuja pravna terminologija – francoščina (TPT FRA
 )\nLetniki: 4. letnik (B1)\, 2. letnik (EM)\, 3. letnik (EM)\nIzvajalci: J
 erca Kramberger Škerl\nProstori: Civilistični seminar
LOCATION:Civilistični seminar
ORGANIZER:Jerca Kramberger Škerl
X-WR-TIMEZONE:Europe/Ljubljana
END:VEVENT
BEGIN:VEVENT
SUMMARY:TPT - francoščina
DTSTART;TZID=Europe/Ljubljana:20260422T150000
DTEND;TZID=Europe/Ljubljana:20260422T163000
DTSTAMP:20260419T135105Z
UID:pf-AFLABS-URNIK:rezervacija:1499
ATTENDEE:2. letnik (EM)
ATTENDEE:3. letnik (EM)
CATEGORIES:Reservation
COLOR:royalblue
DESCRIPTION:Predmeti: Tuja pravna terminologija – francoščina (TPT FRA
 )\nLetniki: 4. letnik (B1)\, 2. letnik (EM)\, 3. letnik (EM)\nIzvajalci: J
 erca Kramberger Škerl\nProstori: Civilistični seminar
LOCATION:Civilistični seminar
ORGANIZER:Jerca Kramberger Škerl
X-WR-TIMEZONE:Europe/Ljubljana
END:VEVENT
BEGIN:VEVENT
SUMMARY:TPT - francoščina
DTSTART;TZID=Europe/Ljubljana:20260429T150000
DTEND;TZID=Europe/Ljubljana:20260429T163000
DTSTAMP:20260419T135105Z
UID:pf-AFLABS-URNIK:rezervacija:1500
ATTENDEE:2. letnik (EM)
ATTENDEE:3. letnik (EM)
CATEGORIES:Reservation
COLOR:royalblue
DESCRIPTION:Predmeti: Tuja pravna terminologija – francoščina (TPT FRA
 )\nLetniki: 4. letnik (B1)\, 2. letnik (EM)\, 3. letnik (EM)\nIzvajalci: J
 erca Kramberger Škerl\nProstori: Civilistični seminar
LOCATION:Civilistični seminar
ORGANIZER:Jerca Kramberger Škerl
X-WR-TIMEZONE:Europe/Ljubljana
END:VEVENT
BEGIN:VEVENT
SUMMARY:TPT - francoščina
DTSTART;TZID=Europe/Ljubljana:20260506T150000
DTEND;TZID=Europe/Ljubljana:20260506T163000
DTSTAMP:20260419T135105Z
UID:pf-AFLABS-URNIK:rezervacija:1501
ATTENDEE:2. letnik (EM)
ATTENDEE:3. letnik (EM)
CATEGORIES:Reservation
COLOR:royalblue
DESCRIPTION:Predmeti: Tuja pravna terminologija – francoščina (TPT FRA
 )\nLetniki: 4. letnik (B1)\, 2. letnik (EM)\, 3. letnik (EM)\nIzvajalci: J
 erca Kramberger Škerl\nProstori: Civilistični seminar
LOCATION:Civilistični seminar
ORGANIZER:Jerca Kramberger Škerl
X-WR-TIMEZONE:Europe/Ljubljana
END:VEVENT
BEGIN:VEVENT
SUMMARY:TPT - francoščina
DTSTART;TZID=Europe/Ljubljana:20260513T150000
DTEND;TZID=Europe/Ljubljana:20260513T163000
DTSTAMP:20260419T135105Z
UID:pf-AFLABS-URNIK:rezervacija:1502
ATTENDEE:2. letnik (EM)
ATTENDEE:3. letnik (EM)
CATEGORIES:Reservation
COLOR:royalblue
DESCRIPTION:Predmeti: Tuja pravna terminologija – francoščina (TPT FRA
 )\nLetniki: 4. letnik (B1)\, 2. letnik (EM)\, 3. letnik (EM)\nIzvajalci: J
 erca Kramberger Škerl\nProstori: Civilistični seminar
LOCATION:Civilistični seminar
ORGANIZER:Jerca Kramberger Škerl
X-WR-TIMEZONE:Europe/Ljubljana
END:VEVENT
END:VCALENDAR
